BEGIN:VCALENDAR
VERSION:2.0
PRODID:-//wbasny - ECPv6.15.20//NONSGML v1.0//EN
CALSCALE:GREGORIAN
METHOD:PUBLISH
X-WR-CALNAME:wbasny
X-ORIGINAL-URL:https://www.wbasny.org
X-WR-CALDESC:Events for wbasny
REFRESH-INTERVAL;VALUE=DURATION:PT1H
X-Robots-Tag:noindex
X-PUBLISHED-TTL:PT1H
BEGIN:VTIMEZONE
TZID:UTC
BEGIN:STANDARD
TZOFFSETFROM:+0000
TZOFFSETTO:+0000
TZNAME:UTC
DTSTART:20180101T000000
END:STANDARD
END:VTIMEZONE
BEGIN:VEVENT
DTSTART;TZID=UTC:20190731T083000
DTEND;TZID=UTC:20190731T130000
DTSTAMP:20260425T181224
CREATED:20190722T182843Z
LAST-MODIFIED:20190722T182900Z
UID:47213-1564561800-1564578000@www.wbasny.org
SUMMARY:CLE and CJE On The Housing Stability and Tenant Protection Act of 2019
DESCRIPTION:Del-Chen-O- Chapter
URL:https://www.wbasny.org/event/cle-and-cje-on-the-housing-stability-and-tenant-protection-act-of-2019/
END:VEVENT
END:VCALENDAR