BEGIN:VCALENDAR
VERSION:2.0
PRODID:-//wbasny - ECPv6.15.20//NONSGML v1.0//EN
CALSCALE:GREGORIAN
METHOD:PUBLISH
X-ORIGINAL-URL:https://www.wbasny.org
X-WR-CALDESC:Events for wbasny
REFRESH-INTERVAL;VALUE=DURATION:PT1H
X-Robots-Tag:noindex
X-PUBLISHED-TTL:PT1H
BEGIN:VTIMEZONE
TZID:America/New_York
BEGIN:DAYLIGHT
TZOFFSETFROM:-0500
TZOFFSETTO:-0400
TZNAME:EDT
DTSTART:20180311T070000
END:DAYLIGHT
BEGIN:STANDARD
TZOFFSETFROM:-0400
TZOFFSETTO:-0500
TZNAME:EST
DTSTART:20181104T060000
END:STANDARD
BEGIN:DAYLIGHT
TZOFFSETFROM:-0500
TZOFFSETTO:-0400
TZNAME:EDT
DTSTART:20190310T070000
END:DAYLIGHT
BEGIN:STANDARD
TZOFFSETFROM:-0400
TZOFFSETTO:-0500
TZNAME:EST
DTSTART:20191103T060000
END:STANDARD
BEGIN:DAYLIGHT
TZOFFSETFROM:-0500
TZOFFSETTO:-0400
TZNAME:EDT
DTSTART:20200308T070000
END:DAYLIGHT
BEGIN:STANDARD
TZOFFSETFROM:-0400
TZOFFSETTO:-0500
TZNAME:EST
DTSTART:20201101T060000
END:STANDARD
END:VTIMEZONE
BEGIN:VTIMEZONE
TZID:UTC
BEGIN:STANDARD
TZOFFSETFROM:+0000
TZOFFSETTO:+0000
TZNAME:UTC
DTSTART:20180101T000000
END:STANDARD
END:VTIMEZONE
BEGIN:VEVENT
DTSTART;TZID=America/New_York:20190910T073000
DTEND;TZID=America/New_York:20190910T100000
DTSTAMP:20260425T151622
CREATED:20190906T212319Z
LAST-MODIFIED:20190906T212325Z
UID:47729-1568100600-1568109600@www.wbasny.org
SUMMARY:Breakfast Briefing
DESCRIPTION:Western New York Chapter
URL:https://www.wbasny.org/event/breakfast-briefing/
LOCATION:Skyline Room\, 2 Templeton Terrace\, Buffalo\, NY\, 14202
ORGANIZER;CN="Western New York Women's Bar Association":MAILTO:wbasnywny@gmail.com
END:VEVENT
BEGIN:VEVENT
DTSTART;TZID=UTC:20190910T090000
DTEND;TZID=UTC:20190910T120000
DTSTAMP:20260425T151622
CREATED:20190522T191908Z
LAST-MODIFIED:20190522T191908Z
UID:46332-1568106000-1568116800@www.wbasny.org
SUMMARY:Officers Meeting
DESCRIPTION:WBASNY
URL:https://www.wbasny.org/event/officers-meeting-8/
LOCATION:Hotel Beacon\, 2130 Broadway\, New York\, NY\, 10023\, United States
ORGANIZER;CN="WBASNY":MAILTO:events@wbasny.org
END:VEVENT
BEGIN:VEVENT
DTSTART;TZID=UTC:20190910T180000
DTEND;TZID=UTC:20190910T210000
DTSTAMP:20260425T151622
CREATED:20190904T193944Z
LAST-MODIFIED:20190904T193951Z
UID:47621-1568138400-1568149200@www.wbasny.org
SUMMARY:National Association of Women Judges-Annual Dinner
DESCRIPTION:New York Chapter
URL:https://www.wbasny.org/event/national-association-of-women-judges-annual-dinner/
LOCATION:Manhattan Manor\, 201 West 52nd. Street\, New York\, NY\, 10019
END:VEVENT
BEGIN:VEVENT
DTSTART;TZID=UTC:20190910T183000
DTEND;TZID=UTC:20190910T213000
DTSTAMP:20260425T151622
CREATED:20190814T012254Z
LAST-MODIFIED:20190814T012257Z
UID:47429-1568140200-1568151000@www.wbasny.org
SUMMARY:Annual Membership Reception
DESCRIPTION:Suffolk County Chapter
URL:https://www.wbasny.org/event/annual-membership-reception/
LOCATION:Ciro’s Italian Restaurant\, 470 Wheeler Road (Route 111)\, Hauppauge\, NY\, 11788
END:VEVENT
END:VCALENDAR