BEGIN:VCALENDAR
VERSION:2.0
PRODID:-//wbasny - ECPv6.15.20//NONSGML v1.0//EN
CALSCALE:GREGORIAN
METHOD:PUBLISH
X-ORIGINAL-URL:https://www.wbasny.org
X-WR-CALDESC:Events for wbasny
REFRESH-INTERVAL;VALUE=DURATION:PT1H
X-Robots-Tag:noindex
X-PUBLISHED-TTL:PT1H
BEGIN:VTIMEZONE
TZID:America/New_York
BEGIN:DAYLIGHT
TZOFFSETFROM:-0500
TZOFFSETTO:-0400
TZNAME:EDT
DTSTART:20180311T070000
END:DAYLIGHT
BEGIN:STANDARD
TZOFFSETFROM:-0400
TZOFFSETTO:-0500
TZNAME:EST
DTSTART:20181104T060000
END:STANDARD
BEGIN:DAYLIGHT
TZOFFSETFROM:-0500
TZOFFSETTO:-0400
TZNAME:EDT
DTSTART:20190310T070000
END:DAYLIGHT
BEGIN:STANDARD
TZOFFSETFROM:-0400
TZOFFSETTO:-0500
TZNAME:EST
DTSTART:20191103T060000
END:STANDARD
BEGIN:DAYLIGHT
TZOFFSETFROM:-0500
TZOFFSETTO:-0400
TZNAME:EDT
DTSTART:20200308T070000
END:DAYLIGHT
BEGIN:STANDARD
TZOFFSETFROM:-0400
TZOFFSETTO:-0500
TZNAME:EST
DTSTART:20201101T060000
END:STANDARD
END:VTIMEZONE
BEGIN:VEVENT
DTSTART;TZID=America/New_York:20190919T080000
DTEND;TZID=America/New_York:20190919T173000
DTSTAMP:20260425T151632
CREATED:20190912T212808Z
LAST-MODIFIED:20190912T212814Z
UID:47940-1568880000-1568914200@www.wbasny.org
SUMMARY:Connectionology-University of Buffalo School of Law
DESCRIPTION:Western New York Chapter
URL:https://www.wbasny.org/event/connectionology-university-of-buffalo-school-of-law/
LOCATION:University of Buffalo Law School\, 211 Putnam Way\, Buffalo\, NY\, 14260
ORGANIZER;CN="Western New York Women's Bar Association":MAILTO:wbasnywny@gmail.com
END:VEVENT
BEGIN:VEVENT
DTSTART;TZID=America/New_York:20190919T080000
DTEND;TZID=America/New_York:20190920T170000
DTSTAMP:20260425T151632
CREATED:20190911T195539Z
LAST-MODIFIED:20190911T195545Z
UID:47817-1568880000-1568998800@www.wbasny.org
SUMMARY:NYSBA Technology Summit
DESCRIPTION:Nassau County Chapter
URL:https://www.wbasny.org/event/nysba-technology-summit/
LOCATION:Crowne Plaza\, Times Square
END:VEVENT
BEGIN:VEVENT
DTSTART;TZID=America/New_York:20190919T083000
DTEND;TZID=America/New_York:20190919T103000
DTSTAMP:20260425T151632
CREATED:20190916T155352Z
LAST-MODIFIED:20190916T155358Z
UID:48013-1568881800-1568889000@www.wbasny.org
SUMMARY:Sexual Harassment Prevention Training
DESCRIPTION:Central New York Chapter
URL:https://www.wbasny.org/event/sexual-harassment-prevention-training/
LOCATION:Vera House\, Inc.\, 723 James Street\, Syracuse\, NY\, 13203
END:VEVENT
BEGIN:VEVENT
DTSTART;TZID=America/New_York:20190919T123000
DTEND;TZID=America/New_York:20190919T163000
DTSTAMP:20260425T151632
CREATED:20190909T154644Z
LAST-MODIFIED:20190909T154650Z
UID:47769-1568896200-1568910600@www.wbasny.org
SUMMARY:"Lunch with a Judge"
DESCRIPTION:Orange-Sullivan Chapter
URL:https://www.wbasny.org/event/lunch-with-a-judge/
LOCATION:Delancey’s\, 40 Park Place\, Goshen\, 10924\, United States
END:VEVENT
BEGIN:VEVENT
DTSTART;TZID=America/New_York:20190919T173000
DTEND;TZID=America/New_York:20190919T203000
DTSTAMP:20260425T151632
CREATED:20190916T160217Z
LAST-MODIFIED:20190916T160531Z
UID:48019-1568914200-1568925000@www.wbasny.org
SUMMARY:Halfway To Saint Patrick's Day Irish Seisiun
DESCRIPTION:Rockland County Chapter
URL:https://www.wbasny.org/event/halfway-to-saint-patricks-day-irish-seisiun/
LOCATION:The Brazen Fox\, 175 Mamaronek Avenue\, White Plains\, New York
END:VEVENT
END:VCALENDAR