BEGIN:VCALENDAR
VERSION:2.0
PRODID:-//wbasny - ECPv6.15.20//NONSGML v1.0//EN
CALSCALE:GREGORIAN
METHOD:PUBLISH
X-ORIGINAL-URL:https://www.wbasny.org
X-WR-CALDESC:Events for wbasny
REFRESH-INTERVAL;VALUE=DURATION:PT1H
X-Robots-Tag:noindex
X-PUBLISHED-TTL:PT1H
BEGIN:VTIMEZONE
TZID:UTC
BEGIN:STANDARD
TZOFFSETFROM:+0000
TZOFFSETTO:+0000
TZNAME:UTC
DTSTART:20180101T000000
END:STANDARD
END:VTIMEZONE
BEGIN:VTIMEZONE
TZID:America/New_York
BEGIN:DAYLIGHT
TZOFFSETFROM:-0500
TZOFFSETTO:-0400
TZNAME:EDT
DTSTART:20180311T070000
END:DAYLIGHT
BEGIN:STANDARD
TZOFFSETFROM:-0400
TZOFFSETTO:-0500
TZNAME:EST
DTSTART:20181104T060000
END:STANDARD
BEGIN:DAYLIGHT
TZOFFSETFROM:-0500
TZOFFSETTO:-0400
TZNAME:EDT
DTSTART:20190310T070000
END:DAYLIGHT
BEGIN:STANDARD
TZOFFSETFROM:-0400
TZOFFSETTO:-0500
TZNAME:EST
DTSTART:20191103T060000
END:STANDARD
BEGIN:DAYLIGHT
TZOFFSETFROM:-0500
TZOFFSETTO:-0400
TZNAME:EDT
DTSTART:20200308T070000
END:DAYLIGHT
BEGIN:STANDARD
TZOFFSETFROM:-0400
TZOFFSETTO:-0500
TZNAME:EST
DTSTART:20201101T060000
END:STANDARD
END:VTIMEZONE
BEGIN:VEVENT
DTSTART;TZID=UTC:20190926T120000
DTEND;TZID=UTC:20190926T200000
DTSTAMP:20260425T164701
CREATED:20190627T011555Z
LAST-MODIFIED:20190702T010358Z
UID:46799-1569499200-1569528000@www.wbasny.org
SUMMARY:Golf Outing and Cocktail Reception
DESCRIPTION:Orange-Sullivan Chapter
URL:https://www.wbasny.org/event/womens-bar-association-of-orange-sullivan-county-golf-outing-and-cocktail-reception/
LOCATION:Winding Hills Golf Course\, 1847 NY-17K\, Montgomery\, NY\, 12549\, United States
END:VEVENT
BEGIN:VEVENT
DTSTART;TZID=America/New_York:20190926T170000
DTEND;TZID=America/New_York:20190926T220000
DTSTAMP:20260425T164701
CREATED:20190923T194646Z
LAST-MODIFIED:20190923T194930Z
UID:48136-1569517200-1569535200@www.wbasny.org
SUMMARY:Annual Membership Mixer
DESCRIPTION:Staten Island Chapter
URL:https://www.wbasny.org/event/annual-membership-mixer/
LOCATION:Mario’s Restaurant\, 1657 Richmond Road\, Staten Island\, NY\, 10304
END:VEVENT
BEGIN:VEVENT
DTSTART;TZID=America/New_York:20190926T173000
DTEND;TZID=America/New_York:20190926T193000
DTSTAMP:20260425T164701
CREATED:20190911T205817Z
LAST-MODIFIED:20190911T205842Z
UID:47894-1569519000-1569526200@www.wbasny.org
SUMMARY:38th Annual Judicial Reception
DESCRIPTION:Central New York Chapter
URL:https://www.wbasny.org/event/38th-annual-judicial-reception/
LOCATION:Rail Lane\, 530 S. Clinton Street
END:VEVENT
BEGIN:VEVENT
DTSTART;TZID=America/New_York:20190926T173000
DTEND;TZID=America/New_York:20190926T193000
DTSTAMP:20260425T164701
CREATED:20190911T211140Z
LAST-MODIFIED:20190911T211146Z
UID:47901-1569519000-1569526200@www.wbasny.org
SUMMARY:BWBA Annual Membership Party
DESCRIPTION:Brooklyn Chapter
URL:https://www.wbasny.org/event/bwba-annual-membership-party/
LOCATION:123 Remsen Street\, 123 Remsen Street\, Brooklyn\, NY
END:VEVENT
BEGIN:VEVENT
DTSTART;TZID=America/New_York:20190926T173000
DTEND;TZID=America/New_York:20190926T203000
DTSTAMP:20260425T164701
CREATED:20190924T205710Z
LAST-MODIFIED:20190924T205716Z
UID:48211-1569519000-1569529800@www.wbasny.org
SUMMARY:CLE: New York Appellate Division Practice
DESCRIPTION:Queens County Chapter
URL:https://www.wbasny.org/event/cle-new-york-appellate-division-practice/
LOCATION:Queens Civil Court\, 89-17 Sutphin Boulevard- Central Jury Room\, Queens\, NY\, 11435
END:VEVENT
BEGIN:VEVENT
DTSTART;TZID=America/New_York:20190926T180000
DTEND;TZID=America/New_York:20190926T190000
DTSTAMP:20260425T164701
CREATED:20190911T203714Z
LAST-MODIFIED:20190911T203720Z
UID:47873-1569520800-1569524400@www.wbasny.org
SUMMARY:18TH Annual Scholarship Gala
DESCRIPTION:Nassau County Chapter
URL:https://www.wbasny.org/event/18th-annual-scholarship-gala/
LOCATION:North Ritz Club\, 270 Jericho Turnpike\, Syosset\, NY\, 11791
END:VEVENT
END:VCALENDAR