BEGIN:VCALENDAR
VERSION:2.0
PRODID:-//wbasny - ECPv6.15.20//NONSGML v1.0//EN
CALSCALE:GREGORIAN
METHOD:PUBLISH
X-WR-CALNAME:wbasny
X-ORIGINAL-URL:https://www.wbasny.org
X-WR-CALDESC:Events for wbasny
REFRESH-INTERVAL;VALUE=DURATION:PT1H
X-Robots-Tag:noindex
X-PUBLISHED-TTL:PT1H
BEGIN:VTIMEZONE
TZID:America/New_York
BEGIN:DAYLIGHT
TZOFFSETFROM:-0500
TZOFFSETTO:-0400
TZNAME:EDT
DTSTART:20180311T070000
END:DAYLIGHT
BEGIN:STANDARD
TZOFFSETFROM:-0400
TZOFFSETTO:-0500
TZNAME:EST
DTSTART:20181104T060000
END:STANDARD
BEGIN:DAYLIGHT
TZOFFSETFROM:-0500
TZOFFSETTO:-0400
TZNAME:EDT
DTSTART:20190310T070000
END:DAYLIGHT
BEGIN:STANDARD
TZOFFSETFROM:-0400
TZOFFSETTO:-0500
TZNAME:EST
DTSTART:20191103T060000
END:STANDARD
BEGIN:DAYLIGHT
TZOFFSETFROM:-0500
TZOFFSETTO:-0400
TZNAME:EDT
DTSTART:20200308T070000
END:DAYLIGHT
BEGIN:STANDARD
TZOFFSETFROM:-0400
TZOFFSETTO:-0500
TZNAME:EST
DTSTART:20201101T060000
END:STANDARD
END:VTIMEZONE
BEGIN:VEVENT
DTSTART;TZID=America/New_York:20191107T080000
DTEND;TZID=America/New_York:20191107T090000
DTSTAMP:20260425T120851
CREATED:20191022T144629Z
LAST-MODIFIED:20191022T144858Z
UID:48726-1573113600-1573117200@www.wbasny.org
SUMMARY:Private Law Committee Meeting
DESCRIPTION:Queens County Chapter
URL:https://www.wbasny.org/event/private-law-committee-meeting/
LOCATION:80-02 Kew Gardens\, 80-02 Kew Gardens\, Suite 600\, Kew Gardens\, NY\, 11415
END:VEVENT
BEGIN:VEVENT
DTSTART;TZID=America/New_York:20191107T080000
DTEND;TZID=America/New_York:20191107T090000
DTSTAMP:20260425T120851
CREATED:20191029T145159Z
LAST-MODIFIED:20191029T145206Z
UID:48827-1573113600-1573117200@www.wbasny.org
SUMMARY:Breakfast Club Round Table
DESCRIPTION:Queens County Chapter
URL:https://www.wbasny.org/event/breakfast-club-round-table-2/
LOCATION:80-02 Kew Gardens\, 80-02 Kew Gardens\, Suite 600\, Kew Gardens\, NY\, 11415
END:VEVENT
BEGIN:VEVENT
DTSTART;TZID=America/New_York:20191107T173000
DTEND;TZID=America/New_York:20191107T193000
DTSTAMP:20260425T120851
CREATED:20191023T215202Z
LAST-MODIFIED:20191023T215215Z
UID:48757-1573147800-1573155000@www.wbasny.org
SUMMARY:CLE: An Evening on Guardianship
DESCRIPTION:Queens County Chapter
URL:https://www.wbasny.org/event/cle-an-evening-on-guardianship/
LOCATION:9035 148th Street\, 9035 148th Street\, Jamaica\, NY\, 11435
END:VEVENT
END:VCALENDAR