BEGIN:VCALENDAR
VERSION:2.0
PRODID:-//wbasny - ECPv6.15.20//NONSGML v1.0//EN
CALSCALE:GREGORIAN
METHOD:PUBLISH
X-ORIGINAL-URL:https://www.wbasny.org
X-WR-CALDESC:Events for wbasny
REFRESH-INTERVAL;VALUE=DURATION:PT1H
X-Robots-Tag:noindex
X-PUBLISHED-TTL:PT1H
BEGIN:VTIMEZONE
TZID:UTC
BEGIN:STANDARD
TZOFFSETFROM:+0000
TZOFFSETTO:+0000
TZNAME:UTC
DTSTART:20190101T000000
END:STANDARD
END:VTIMEZONE
BEGIN:VEVENT
DTSTART;TZID=UTC:20200125T100000
DTEND;TZID=UTC:20200125T150000
DTSTAMP:20260425T133215
CREATED:20190522T194546Z
LAST-MODIFIED:20190603T221657Z
UID:46348-1579946400-1579964400@www.wbasny.org
SUMMARY:Board of Directors Meeting
DESCRIPTION:WBASNY \n 
URL:https://www.wbasny.org/event/board-of-directors-meeting-11/
LOCATION:Columbia University Law School\, 435 West 116th Street\, New York\, NY\, 10027
ORGANIZER;CN="WBASNY":MAILTO:events@wbasny.org
END:VEVENT
END:VCALENDAR