BEGIN:VCALENDAR
VERSION:2.0
PRODID:-//wbasny - ECPv6.15.20//NONSGML v1.0//EN
CALSCALE:GREGORIAN
METHOD:PUBLISH
X-ORIGINAL-URL:https://www.wbasny.org
X-WR-CALDESC:Events for wbasny
REFRESH-INTERVAL;VALUE=DURATION:PT1H
X-Robots-Tag:noindex
X-PUBLISHED-TTL:PT1H
BEGIN:VTIMEZONE
TZID:America/New_York
BEGIN:DAYLIGHT
TZOFFSETFROM:-0500
TZOFFSETTO:-0400
TZNAME:EDT
DTSTART:20190310T070000
END:DAYLIGHT
BEGIN:STANDARD
TZOFFSETFROM:-0400
TZOFFSETTO:-0500
TZNAME:EST
DTSTART:20191103T060000
END:STANDARD
BEGIN:DAYLIGHT
TZOFFSETFROM:-0500
TZOFFSETTO:-0400
TZNAME:EDT
DTSTART:20200308T070000
END:DAYLIGHT
BEGIN:STANDARD
TZOFFSETFROM:-0400
TZOFFSETTO:-0500
TZNAME:EST
DTSTART:20201101T060000
END:STANDARD
BEGIN:DAYLIGHT
TZOFFSETFROM:-0500
TZOFFSETTO:-0400
TZNAME:EDT
DTSTART:20210314T070000
END:DAYLIGHT
BEGIN:STANDARD
TZOFFSETFROM:-0400
TZOFFSETTO:-0500
TZNAME:EST
DTSTART:20211107T060000
END:STANDARD
END:VTIMEZONE
BEGIN:VEVENT
DTSTART;TZID=America/New_York:20200130T080000
DTEND;TZID=America/New_York:20200130T163000
DTSTAMP:20260425T091731
CREATED:20191216T224211Z
LAST-MODIFIED:20191216T224212Z
UID:49526-1580371200-1580401800@www.wbasny.org
SUMMARY:Woman Up The Brain & Movement 2020
DESCRIPTION:Western New York Chapter
URL:https://www.wbasny.org/event/woman-up-the-brain-movement-2020/
LOCATION:500 Pearl Street
ORGANIZER;CN="Western New York Women's Bar Association":MAILTO:wbasnywny@gmail.com
END:VEVENT
BEGIN:VEVENT
DTSTART;TZID=America/New_York:20200130T180000
DTEND;TZID=America/New_York:20200130T210000
DTSTAMP:20260425T091731
CREATED:20191213T153755Z
LAST-MODIFIED:20191213T153839Z
UID:49501-1580407200-1580418000@www.wbasny.org
SUMMARY:Time to Celebrate
DESCRIPTION:Suffolk County
URL:https://www.wbasny.org/event/time-to-celebrate/
LOCATION:Hotel Indigo\, East End\, 1830 West Main Street\, Rt. 25\, Riverhead\, NY\, 11901
END:VEVENT
BEGIN:VEVENT
DTSTART;TZID=America/New_York:20200130T193000
DTEND;TZID=America/New_York:20200130T223000
DTSTAMP:20260425T091731
CREATED:20200127T180557Z
LAST-MODIFIED:20200127T180649Z
UID:49913-1580412600-1580423400@www.wbasny.org
SUMMARY:Equal. Strong. Anniversary. Suffrage. Rochester.
DESCRIPTION:Greater Rochester Chapter
URL:https://www.wbasny.org/event/equal-strong-anniversary-suffrage-rochester/
LOCATION:255 East Avenue\, 255 East Avenue\, Suite LL02\, Rochester\, NY\, 14604
END:VEVENT
END:VCALENDAR