BEGIN:VCALENDAR
VERSION:2.0
PRODID:-//wbasny - ECPv6.15.20//NONSGML v1.0//EN
CALSCALE:GREGORIAN
METHOD:PUBLISH
X-WR-CALNAME:wbasny
X-ORIGINAL-URL:https://www.wbasny.org
X-WR-CALDESC:Events for wbasny
REFRESH-INTERVAL;VALUE=DURATION:PT1H
X-Robots-Tag:noindex
X-PUBLISHED-TTL:PT1H
BEGIN:VTIMEZONE
TZID:America/New_York
BEGIN:DAYLIGHT
TZOFFSETFROM:-0500
TZOFFSETTO:-0400
TZNAME:EDT
DTSTART:20190310T070000
END:DAYLIGHT
BEGIN:STANDARD
TZOFFSETFROM:-0400
TZOFFSETTO:-0500
TZNAME:EST
DTSTART:20191103T060000
END:STANDARD
BEGIN:DAYLIGHT
TZOFFSETFROM:-0500
TZOFFSETTO:-0400
TZNAME:EDT
DTSTART:20200308T070000
END:DAYLIGHT
BEGIN:STANDARD
TZOFFSETFROM:-0400
TZOFFSETTO:-0500
TZNAME:EST
DTSTART:20201101T060000
END:STANDARD
BEGIN:DAYLIGHT
TZOFFSETFROM:-0500
TZOFFSETTO:-0400
TZNAME:EDT
DTSTART:20210314T070000
END:DAYLIGHT
BEGIN:STANDARD
TZOFFSETFROM:-0400
TZOFFSETTO:-0500
TZNAME:EST
DTSTART:20211107T060000
END:STANDARD
END:VTIMEZONE
BEGIN:VEVENT
DTSTART;TZID=America/New_York:20200221T120000
DTEND;TZID=America/New_York:20200221T130000
DTSTAMP:20260425T105418
CREATED:20200210T212346Z
LAST-MODIFIED:20200210T212346Z
UID:50055-1582286400-1582290000@www.wbasny.org
SUMMARY:The Law of Mindfulness
DESCRIPTION:Western New York Chapter
URL:https://www.wbasny.org/event/the-law-of-mindfulness/
LOCATION:438 Main Street\, 438 Main Street\, Sun Room Auditorium
ORGANIZER;CN="Western New York Women's Bar Association":MAILTO:wbasnywny@gmail.com
END:VEVENT
BEGIN:VEVENT
DTSTART;TZID=America/New_York:20200221T123000
DTEND;TZID=America/New_York:20200221T153000
DTSTAMP:20260425T105418
CREATED:20200217T224020Z
LAST-MODIFIED:20200217T224020Z
UID:50163-1582288200-1582299000@www.wbasny.org
SUMMARY:Black History Month Event
DESCRIPTION:Nassau Chapter
URL:https://www.wbasny.org/event/black-history-month-event/
LOCATION:Supreme Court\, Nassau County
END:VEVENT
END:VCALENDAR