BEGIN:VCALENDAR
VERSION:2.0
PRODID:-//wbasny - ECPv6.15.20//NONSGML v1.0//EN
CALSCALE:GREGORIAN
METHOD:PUBLISH
X-WR-CALNAME:wbasny
X-ORIGINAL-URL:https://www.wbasny.org
X-WR-CALDESC:Events for wbasny
REFRESH-INTERVAL;VALUE=DURATION:PT1H
X-Robots-Tag:noindex
X-PUBLISHED-TTL:PT1H
BEGIN:VTIMEZONE
TZID:America/New_York
BEGIN:DAYLIGHT
TZOFFSETFROM:-0500
TZOFFSETTO:-0400
TZNAME:EDT
DTSTART:20190310T070000
END:DAYLIGHT
BEGIN:STANDARD
TZOFFSETFROM:-0400
TZOFFSETTO:-0500
TZNAME:EST
DTSTART:20191103T060000
END:STANDARD
BEGIN:DAYLIGHT
TZOFFSETFROM:-0500
TZOFFSETTO:-0400
TZNAME:EDT
DTSTART:20200308T070000
END:DAYLIGHT
BEGIN:STANDARD
TZOFFSETFROM:-0400
TZOFFSETTO:-0500
TZNAME:EST
DTSTART:20201101T060000
END:STANDARD
BEGIN:DAYLIGHT
TZOFFSETFROM:-0500
TZOFFSETTO:-0400
TZNAME:EDT
DTSTART:20210314T070000
END:DAYLIGHT
BEGIN:STANDARD
TZOFFSETFROM:-0400
TZOFFSETTO:-0500
TZNAME:EST
DTSTART:20211107T060000
END:STANDARD
END:VTIMEZONE
BEGIN:VEVENT
DTSTART;TZID=America/New_York:20200311T173000
DTEND;TZID=America/New_York:20200311T193000
DTSTAMP:20260425T072255
CREATED:20200210T212733Z
LAST-MODIFIED:20200227T191131Z
UID:50058-1583947800-1583955000@www.wbasny.org
SUMMARY:LGBTQ Committee Kick-Off Party
DESCRIPTION:Western New York
URL:https://www.wbasny.org/event/lgbtq-committee-kick-off-party-2/
LOCATION:Lockhouse Distillery\, 41 Columbia Street\, Buffalo\, NY
ORGANIZER;CN="Western New York Women's Bar Association":MAILTO:wbasnywny@gmail.com
END:VEVENT
BEGIN:VEVENT
DTSTART;TZID=America/New_York:20200311T173000
DTEND;TZID=America/New_York:20200311T210000
DTSTAMP:20260425T072255
CREATED:20200127T183018Z
LAST-MODIFIED:20200227T191102Z
UID:49929-1583947800-1583960400@www.wbasny.org
SUMMARY:The Giver of Stars
DESCRIPTION:Orange-Sullivan
URL:https://www.wbasny.org/event/the-giver-of-stars-by-jojo-moyes/
LOCATION:Jacobwitz and Gubits\, LLP.\, Walden\, New York
END:VEVENT
END:VCALENDAR