BEGIN:VCALENDAR
VERSION:2.0
PRODID:-//wbasny - ECPv6.15.20//NONSGML v1.0//EN
CALSCALE:GREGORIAN
METHOD:PUBLISH
X-WR-CALNAME:wbasny
X-ORIGINAL-URL:https://www.wbasny.org
X-WR-CALDESC:Events for wbasny
REFRESH-INTERVAL;VALUE=DURATION:PT1H
X-Robots-Tag:noindex
X-PUBLISHED-TTL:PT1H
BEGIN:VTIMEZONE
TZID:America/New_York
BEGIN:DAYLIGHT
TZOFFSETFROM:-0500
TZOFFSETTO:-0400
TZNAME:EDT
DTSTART:20190310T070000
END:DAYLIGHT
BEGIN:STANDARD
TZOFFSETFROM:-0400
TZOFFSETTO:-0500
TZNAME:EST
DTSTART:20191103T060000
END:STANDARD
BEGIN:DAYLIGHT
TZOFFSETFROM:-0500
TZOFFSETTO:-0400
TZNAME:EDT
DTSTART:20200308T070000
END:DAYLIGHT
BEGIN:STANDARD
TZOFFSETFROM:-0400
TZOFFSETTO:-0500
TZNAME:EST
DTSTART:20201101T060000
END:STANDARD
BEGIN:DAYLIGHT
TZOFFSETFROM:-0500
TZOFFSETTO:-0400
TZNAME:EDT
DTSTART:20210314T070000
END:DAYLIGHT
BEGIN:STANDARD
TZOFFSETFROM:-0400
TZOFFSETTO:-0500
TZNAME:EST
DTSTART:20211107T060000
END:STANDARD
END:VTIMEZONE
BEGIN:VEVENT
DTSTART;TZID=America/New_York:20200312T120000
DTEND;TZID=America/New_York:20200312T140000
DTSTAMP:20260425T072255
CREATED:20200302T220446Z
LAST-MODIFIED:20200302T220446Z
UID:50382-1584014400-1584021600@www.wbasny.org
SUMMARY:Public Sector & Non-Profit Committee Meeting
DESCRIPTION:Western New York
URL:https://www.wbasny.org/event/public-sector-non-profit-committee-meeting/
LOCATION:Erie County Attorney’s Office
ORGANIZER;CN="Western New York Women's Bar Association":MAILTO:wbasnywny@gmail.com
END:VEVENT
BEGIN:VEVENT
DTSTART;TZID=America/New_York:20200312T123000
DTEND;TZID=America/New_York:20200312T153000
DTSTAMP:20260425T072255
CREATED:20200212T212518Z
LAST-MODIFIED:20200310T201229Z
UID:50094-1584016200-1584027000@www.wbasny.org
SUMMARY:Lunch with a Judge
DESCRIPTION:Orange-Sullivan
URL:https://www.wbasny.org/event/lunch-with-a-judge-honorable-steven-milligram/
LOCATION:Delancey’s Goshen
END:VEVENT
BEGIN:VEVENT
DTSTART;TZID=America/New_York:20200312T170000
DTEND;TZID=America/New_York:20200312T193000
DTSTAMP:20260425T072255
CREATED:20200224T152933Z
LAST-MODIFIED:20200227T191332Z
UID:50240-1584032400-1584041400@www.wbasny.org
SUMMARY:Judges Night 2020
DESCRIPTION:Bronx
URL:https://www.wbasny.org/event/judges-night/
LOCATION:The Hard Rock Cafe Yankee Stadium\, One East 161st Street- Gate 6\, Bronx\, NY\, 10451
END:VEVENT
BEGIN:VEVENT
DTSTART;TZID=America/New_York:20200312T180000
DTEND;TZID=America/New_York:20200312T210000
DTSTAMP:20260425T072255
CREATED:20200210T221139Z
LAST-MODIFIED:20200227T191510Z
UID:50079-1584036000-1584046800@www.wbasny.org
SUMMARY:International Women's Day Celebration
DESCRIPTION:Adirondack
URL:https://www.wbasny.org/event/international-womens-day-celebration/
LOCATION:Putnam Place\, 63 Putnam Street\, Saratoga Springs\, New York\, 12866
END:VEVENT
BEGIN:VEVENT
DTSTART;TZID=America/New_York:20200312T183000
DTEND;TZID=America/New_York:20200312T210000
DTSTAMP:20260425T072255
CREATED:20200220T152628Z
LAST-MODIFIED:20200227T191603Z
UID:50223-1584037800-1584046800@www.wbasny.org
SUMMARY:CLE  - Ethics Update 2020
DESCRIPTION:Staten Island
URL:https://www.wbasny.org/event/cle-with-hon-barbara-i-panepinto-and-deborah-a-scalise-esq-ethics-update-2020/
LOCATION:Bocelli Ristorante\, 1250 Hylan Blvd\,\, Staten Island\, NY\, 10305\, United States
END:VEVENT
END:VCALENDAR