BEGIN:VCALENDAR
VERSION:2.0
PRODID:-//wbasny - ECPv6.15.20//NONSGML v1.0//EN
CALSCALE:GREGORIAN
METHOD:PUBLISH
X-ORIGINAL-URL:https://www.wbasny.org
X-WR-CALDESC:Events for wbasny
REFRESH-INTERVAL;VALUE=DURATION:PT1H
X-Robots-Tag:noindex
X-PUBLISHED-TTL:PT1H
BEGIN:VTIMEZONE
TZID:UTC
BEGIN:STANDARD
TZOFFSETFROM:+0000
TZOFFSETTO:+0000
TZNAME:UTC
DTSTART:20190101T000000
END:STANDARD
END:VTIMEZONE
BEGIN:VEVENT
DTSTART;TZID=UTC:20200321T100000
DTEND;TZID=UTC:20200321T150000
DTSTAMP:20260425T141229
CREATED:20190522T195031Z
LAST-MODIFIED:20200312T143222Z
UID:46354-1584784800-1584802800@www.wbasny.org
SUMMARY:Cancelled - Board of Directors Meeting
DESCRIPTION:WBASNY \n 
URL:https://www.wbasny.org/event/board-of-directors-meeting-12/
LOCATION:Albany Law School\, 80 New Scotland Avenue\, Albany\, NY\, 12208\, United States
ORGANIZER;CN="WBASNY":MAILTO:events@wbasny.org
END:VEVENT
END:VCALENDAR