BEGIN:VCALENDAR
VERSION:2.0
PRODID:-//wbasny - ECPv6.15.20//NONSGML v1.0//EN
CALSCALE:GREGORIAN
METHOD:PUBLISH
X-WR-CALNAME:wbasny
X-ORIGINAL-URL:https://www.wbasny.org
X-WR-CALDESC:Events for wbasny
REFRESH-INTERVAL;VALUE=DURATION:PT1H
X-Robots-Tag:noindex
X-PUBLISHED-TTL:PT1H
BEGIN:VTIMEZONE
TZID:America/New_York
BEGIN:DAYLIGHT
TZOFFSETFROM:-0500
TZOFFSETTO:-0400
TZNAME:EDT
DTSTART:20190310T070000
END:DAYLIGHT
BEGIN:STANDARD
TZOFFSETFROM:-0400
TZOFFSETTO:-0500
TZNAME:EST
DTSTART:20191103T060000
END:STANDARD
BEGIN:DAYLIGHT
TZOFFSETFROM:-0500
TZOFFSETTO:-0400
TZNAME:EDT
DTSTART:20200308T070000
END:DAYLIGHT
BEGIN:STANDARD
TZOFFSETFROM:-0400
TZOFFSETTO:-0500
TZNAME:EST
DTSTART:20201101T060000
END:STANDARD
BEGIN:DAYLIGHT
TZOFFSETFROM:-0500
TZOFFSETTO:-0400
TZNAME:EDT
DTSTART:20210314T070000
END:DAYLIGHT
BEGIN:STANDARD
TZOFFSETFROM:-0400
TZOFFSETTO:-0500
TZNAME:EST
DTSTART:20211107T060000
END:STANDARD
END:VTIMEZONE
BEGIN:VEVENT
DTSTART;TZID=America/New_York:20200507T080000
DTEND;TZID=America/New_York:20200507T170000
DTSTAMP:20260423T120628
CREATED:20200218T161003Z
LAST-MODIFIED:20200504T155556Z
UID:50205-1588838400-1588870800@www.wbasny.org
SUMMARY:16th Annual Law & Medicine Dinner
DESCRIPTION:Central New York Chapter
URL:https://www.wbasny.org/event/16th-annual-law-medicine-dinner/
LOCATION:Eat This Bakery\, 8 Union Street\, Montgomery\, New York
END:VEVENT
BEGIN:VEVENT
DTSTART;TZID=America/New_York:20200507T120000
DTEND;TZID=America/New_York:20200507T130000
DTSTAMP:20260423T120628
CREATED:20200504T160033Z
LAST-MODIFIED:20200504T160107Z
UID:51570-1588852800-1588856400@www.wbasny.org
SUMMARY:CLE - Key Employment Law Considerations in the Wake of COVID-19
DESCRIPTION:WBASNY
URL:https://www.wbasny.org/event/cle-key-employment-law-considerations-in-the-wake-of-covid-19/
ORGANIZER;CN="WBASNY":MAILTO:events@wbasny.org
END:VEVENT
END:VCALENDAR