BEGIN:VCALENDAR
VERSION:2.0
PRODID:-//wbasny - ECPv6.15.20//NONSGML v1.0//EN
CALSCALE:GREGORIAN
METHOD:PUBLISH
X-WR-CALNAME:wbasny
X-ORIGINAL-URL:https://www.wbasny.org
X-WR-CALDESC:Events for wbasny
REFRESH-INTERVAL;VALUE=DURATION:PT1H
X-Robots-Tag:noindex
X-PUBLISHED-TTL:PT1H
BEGIN:VTIMEZONE
TZID:America/New_York
BEGIN:DAYLIGHT
TZOFFSETFROM:-0500
TZOFFSETTO:-0400
TZNAME:EDT
DTSTART:20190310T070000
END:DAYLIGHT
BEGIN:STANDARD
TZOFFSETFROM:-0400
TZOFFSETTO:-0500
TZNAME:EST
DTSTART:20191103T060000
END:STANDARD
BEGIN:DAYLIGHT
TZOFFSETFROM:-0500
TZOFFSETTO:-0400
TZNAME:EDT
DTSTART:20200308T070000
END:DAYLIGHT
BEGIN:STANDARD
TZOFFSETFROM:-0400
TZOFFSETTO:-0500
TZNAME:EST
DTSTART:20201101T060000
END:STANDARD
BEGIN:DAYLIGHT
TZOFFSETFROM:-0500
TZOFFSETTO:-0400
TZNAME:EDT
DTSTART:20210314T070000
END:DAYLIGHT
BEGIN:STANDARD
TZOFFSETFROM:-0400
TZOFFSETTO:-0500
TZNAME:EST
DTSTART:20211107T060000
END:STANDARD
END:VTIMEZONE
BEGIN:VEVENT
DTSTART;TZID=America/New_York:20200616T140000
DTEND;TZID=America/New_York:20200616T170000
DTSTAMP:20260423T094824
CREATED:20200512T143646Z
LAST-MODIFIED:20200512T143646Z
UID:51596-1592316000-1592326800@www.wbasny.org
SUMMARY:Girls and Girls of Color in the Juvenile Justice System CLE
DESCRIPTION:Albany
URL:https://www.wbasny.org/event/girls-and-girls-of-color-in-the-juvenile-justice-system-cle/
END:VEVENT
BEGIN:VEVENT
DTSTART;TZID=America/New_York:20200616T173000
DTEND;TZID=America/New_York:20200616T203000
DTSTAMP:20260423T094824
CREATED:20200519T142741Z
LAST-MODIFIED:20200601T173232Z
UID:51613-1592328600-1592339400@www.wbasny.org
SUMMARY:Installation of Officers & Director
DESCRIPTION:Brooklyn Chapter
URL:https://www.wbasny.org/event/installation-of-officers-director/
END:VEVENT
END:VCALENDAR