BEGIN:VCALENDAR
VERSION:2.0
PRODID:-//wbasny - ECPv6.15.20//NONSGML v1.0//EN
CALSCALE:GREGORIAN
METHOD:PUBLISH
X-WR-CALNAME:wbasny
X-ORIGINAL-URL:https://www.wbasny.org
X-WR-CALDESC:Events for wbasny
REFRESH-INTERVAL;VALUE=DURATION:PT1H
X-Robots-Tag:noindex
X-PUBLISHED-TTL:PT1H
BEGIN:VTIMEZONE
TZID:America/New_York
BEGIN:DAYLIGHT
TZOFFSETFROM:-0500
TZOFFSETTO:-0400
TZNAME:EDT
DTSTART:20190310T070000
END:DAYLIGHT
BEGIN:STANDARD
TZOFFSETFROM:-0400
TZOFFSETTO:-0500
TZNAME:EST
DTSTART:20191103T060000
END:STANDARD
BEGIN:DAYLIGHT
TZOFFSETFROM:-0500
TZOFFSETTO:-0400
TZNAME:EDT
DTSTART:20200308T070000
END:DAYLIGHT
BEGIN:STANDARD
TZOFFSETFROM:-0400
TZOFFSETTO:-0500
TZNAME:EST
DTSTART:20201101T060000
END:STANDARD
BEGIN:DAYLIGHT
TZOFFSETFROM:-0500
TZOFFSETTO:-0400
TZNAME:EDT
DTSTART:20210314T070000
END:DAYLIGHT
BEGIN:STANDARD
TZOFFSETFROM:-0400
TZOFFSETTO:-0500
TZNAME:EST
DTSTART:20211107T060000
END:STANDARD
END:VTIMEZONE
BEGIN:VEVENT
DTSTART;TZID=America/New_York:20200623T183000
DTEND;TZID=America/New_York:20200623T193000
DTSTAMP:20260423T094824
CREATED:20200303T213545Z
LAST-MODIFIED:20200622T144808Z
UID:50393-1592937000-1592940600@www.wbasny.org
SUMMARY:Virtual Installation
DESCRIPTION:Queens Chapter
URL:https://www.wbasny.org/event/save-the-date-annual-installation-dinner/
LOCATION:Russo’s on the Bay\, 162-45 Cross Bay Boulevard\, Howard Beach\, NY\, 11414\, United States
END:VEVENT
BEGIN:VEVENT
DTSTART;TZID=America/New_York:20200623T190000
DTEND;TZID=America/New_York:20200623T200000
DTSTAMP:20260423T094824
CREATED:20200622T144953Z
LAST-MODIFIED:20200622T150058Z
UID:51815-1592938800-1592942400@www.wbasny.org
SUMMARY:All Things COVID
DESCRIPTION:Orange-Sullivan Chapter \nDear Members: \nAfter months of hearing and speaking of little else\, and in an effort to allow other WBAOSC programming to return to its original\, non-virus related content\, we are pleased to announce that we have formed a new group!   All Things Covid will be led by WBAOSC Vice President Sharon Worthy-Spiegl and past WBAOSC board member Christina Randazzo to provide our members a safe place to virtually meet and discuss worries\, concerns\, suggestions\, and general advice related to practicing law in the time of Covid. \nJoin us via Zoom on Tuesday\, June 23rd at 7pm. \nRSVP at rsvp@wbaosc.org for the zoom information. \nBest Wishes\, \nKelly A. Pressler \n 
URL:https://www.wbasny.org/event/all-things-covid/
END:VEVENT
END:VCALENDAR