BEGIN:VCALENDAR
VERSION:2.0
PRODID:-//wbasny - ECPv6.15.20//NONSGML v1.0//EN
CALSCALE:GREGORIAN
METHOD:PUBLISH
X-WR-CALNAME:wbasny
X-ORIGINAL-URL:https://www.wbasny.org
X-WR-CALDESC:Events for wbasny
REFRESH-INTERVAL;VALUE=DURATION:PT1H
X-Robots-Tag:noindex
X-PUBLISHED-TTL:PT1H
BEGIN:VTIMEZONE
TZID:America/New_York
BEGIN:DAYLIGHT
TZOFFSETFROM:-0500
TZOFFSETTO:-0400
TZNAME:EDT
DTSTART:20190310T070000
END:DAYLIGHT
BEGIN:STANDARD
TZOFFSETFROM:-0400
TZOFFSETTO:-0500
TZNAME:EST
DTSTART:20191103T060000
END:STANDARD
BEGIN:DAYLIGHT
TZOFFSETFROM:-0500
TZOFFSETTO:-0400
TZNAME:EDT
DTSTART:20200308T070000
END:DAYLIGHT
BEGIN:STANDARD
TZOFFSETFROM:-0400
TZOFFSETTO:-0500
TZNAME:EST
DTSTART:20201101T060000
END:STANDARD
BEGIN:DAYLIGHT
TZOFFSETFROM:-0500
TZOFFSETTO:-0400
TZNAME:EDT
DTSTART:20210314T070000
END:DAYLIGHT
BEGIN:STANDARD
TZOFFSETFROM:-0400
TZOFFSETTO:-0500
TZNAME:EST
DTSTART:20211107T060000
END:STANDARD
END:VTIMEZONE
BEGIN:VEVENT
DTSTART;TZID=America/New_York:20200809T100000
DTEND;TZID=America/New_York:20200809T120000
DTSTAMP:20260423T055057
CREATED:20200713T195526Z
LAST-MODIFIED:20200803T191654Z
UID:51919-1596967200-1596974400@www.wbasny.org
SUMMARY:Family Friendly Hike
DESCRIPTION:Orange-Sullivan Chapter\n \nFamily Friendly Hike \nSunday\, August 9th\, @ 10:00 am \nA morning hike at Moonbeams Preserve \n150 acres of fields\, forest\, and wetlands located at the base of the Shawangunk Ridge and bordering the Shawangunk Kill; Moonbeams is a quiet hidden gem. \nTrail is suitable for ages and skill levels. Please wear comfortable shoes\, bring water\, sunscreen\, and bug spray (if you use it). Social distancing will be followed. Dogs are not allowed per the preserve rules. \nAll social distancing and safety measures will be required at each event and outing. \nRSVP to rsvp@wbaosc.org to reserve a spot
URL:https://www.wbasny.org/event/family-friendly-hike/
END:VEVENT
END:VCALENDAR