BEGIN:VCALENDAR
VERSION:2.0
PRODID:-//wbasny - ECPv6.15.20//NONSGML v1.0//EN
CALSCALE:GREGORIAN
METHOD:PUBLISH
X-ORIGINAL-URL:https://www.wbasny.org
X-WR-CALDESC:Events for wbasny
REFRESH-INTERVAL;VALUE=DURATION:PT1H
X-Robots-Tag:noindex
X-PUBLISHED-TTL:PT1H
BEGIN:VTIMEZONE
TZID:America/New_York
BEGIN:DAYLIGHT
TZOFFSETFROM:-0500
TZOFFSETTO:-0400
TZNAME:EDT
DTSTART:20190310T070000
END:DAYLIGHT
BEGIN:STANDARD
TZOFFSETFROM:-0400
TZOFFSETTO:-0500
TZNAME:EST
DTSTART:20191103T060000
END:STANDARD
BEGIN:DAYLIGHT
TZOFFSETFROM:-0500
TZOFFSETTO:-0400
TZNAME:EDT
DTSTART:20200308T070000
END:DAYLIGHT
BEGIN:STANDARD
TZOFFSETFROM:-0400
TZOFFSETTO:-0500
TZNAME:EST
DTSTART:20201101T060000
END:STANDARD
BEGIN:DAYLIGHT
TZOFFSETFROM:-0500
TZOFFSETTO:-0400
TZNAME:EDT
DTSTART:20210314T070000
END:DAYLIGHT
BEGIN:STANDARD
TZOFFSETFROM:-0400
TZOFFSETTO:-0500
TZNAME:EST
DTSTART:20211107T060000
END:STANDARD
END:VTIMEZONE
BEGIN:VEVENT
DTSTART;TZID=America/New_York:20200910T123000
DTEND;TZID=America/New_York:20200910T133000
DTSTAMP:20260423T025245
CREATED:20200908T232504Z
LAST-MODIFIED:20200908T232504Z
UID:52340-1599741000-1599744600@www.wbasny.org
SUMMARY:New Sexual Harassment Laws in New York State
DESCRIPTION:Nassau Chapter \nThe NCWBA is co-sponsoring a program with the Civil Rights Committee of the Nassau County Bar Association regarding New York State Sexual Harassment Laws. Keith Frank\, Esq. is the speaker. To register for the program\, click here. Zoom information will be sent directly to you upon registration.
URL:https://www.wbasny.org/event/new-sexual-harassment-laws-in-new-york-state/
END:VEVENT
BEGIN:VEVENT
DTSTART;TZID=America/New_York:20200910T130000
DTEND;TZID=America/New_York:20200910T140000
DTSTAMP:20260423T025245
CREATED:20200908T230448Z
LAST-MODIFIED:20200908T230448Z
UID:52329-1599742800-1599746400@www.wbasny.org
SUMMARY:Lunch with a Judge Series
DESCRIPTION:Brooklyn Chapter
URL:https://www.wbasny.org/event/lunch-with-a-judge-series-3/
END:VEVENT
BEGIN:VEVENT
DTSTART;TZID=America/New_York:20200910T173000
DTEND;TZID=America/New_York:20200910T193000
DTSTAMP:20260423T025245
CREATED:20200813T184841Z
LAST-MODIFIED:20200813T185007Z
UID:52104-1599759000-1599766200@www.wbasny.org
SUMMARY:Annual Dinner
DESCRIPTION:Orange-Sullivan Chapter \n2020 Annual Diner \nCelebrating the 2020 Award Winners\, thanking the 2019/2020 Board of Directors\,\nand welcoming the 2020/2021 Board of Directors\n~~~~~~~~~~~ \nRose Rosen Award\nBarbara Strauss\, Esq.\nStrauss & Kallus PLLC \nPublic Interest Attorney Member Award\nGillian Menza\, Esq.\nLegal Services of the Hudson Valley \nDistinguished Attorney Award\nAnne Hunter\, Esq. \nOutstanding New Laywer\nChristina Randazzo\, Esq.\nCrusch & Varma Law Group PC \n~~~~~~~~~~~ \nThis event will take place outdoors at The Eagle’s Nest\, with all social\ndistancing and mask requirements being followed.\nA buffet dinner will be served with strict adherence to all CDC and state guidelines. \nStay tuned for more details! \nRSVP Now
URL:https://www.wbasny.org/event/annual-dinner/
LOCATION:Eagle’s Nest\, 58 Eagle's Nest Road\, Bloomingburg\, NY\, 12721\, United States
END:VEVENT
END:VCALENDAR