BEGIN:VCALENDAR
VERSION:2.0
PRODID:-//wbasny - ECPv6.15.20//NONSGML v1.0//EN
CALSCALE:GREGORIAN
METHOD:PUBLISH
X-ORIGINAL-URL:https://www.wbasny.org
X-WR-CALDESC:Events for wbasny
REFRESH-INTERVAL;VALUE=DURATION:PT1H
X-Robots-Tag:noindex
X-PUBLISHED-TTL:PT1H
BEGIN:VTIMEZONE
TZID:America/New_York
BEGIN:DAYLIGHT
TZOFFSETFROM:-0500
TZOFFSETTO:-0400
TZNAME:EDT
DTSTART:20190310T070000
END:DAYLIGHT
BEGIN:STANDARD
TZOFFSETFROM:-0400
TZOFFSETTO:-0500
TZNAME:EST
DTSTART:20191103T060000
END:STANDARD
BEGIN:DAYLIGHT
TZOFFSETFROM:-0500
TZOFFSETTO:-0400
TZNAME:EDT
DTSTART:20200308T070000
END:DAYLIGHT
BEGIN:STANDARD
TZOFFSETFROM:-0400
TZOFFSETTO:-0500
TZNAME:EST
DTSTART:20201101T060000
END:STANDARD
BEGIN:DAYLIGHT
TZOFFSETFROM:-0500
TZOFFSETTO:-0400
TZNAME:EDT
DTSTART:20210314T070000
END:DAYLIGHT
BEGIN:STANDARD
TZOFFSETFROM:-0400
TZOFFSETTO:-0500
TZNAME:EST
DTSTART:20211107T060000
END:STANDARD
END:VTIMEZONE
BEGIN:VEVENT
DTSTART;TZID=America/New_York:20200916T173000
DTEND;TZID=America/New_York:20200916T183000
DTSTAMP:20260423T072854
CREATED:20200902T194047Z
LAST-MODIFIED:20200902T194047Z
UID:52274-1600277400-1600281000@www.wbasny.org
SUMMARY:Book Club
DESCRIPTION:Orange-Sullivan Chapter \nSalesian Park\, Goshen (behind library)
URL:https://www.wbasny.org/event/book-club-4/
END:VEVENT
BEGIN:VEVENT
DTSTART;TZID=America/New_York:20200916T173000
DTEND;TZID=America/New_York:20200916T190000
DTSTAMP:20260423T072854
CREATED:20200909T215917Z
LAST-MODIFIED:20200909T215917Z
UID:52395-1600277400-1600282800@www.wbasny.org
SUMMARY:Voter Suppression: Then and Now
DESCRIPTION:Rochester Chapter
URL:https://www.wbasny.org/event/voter-suppression-then-and-now/
END:VEVENT
BEGIN:VEVENT
DTSTART;TZID=America/New_York:20200916T180000
DTEND;TZID=America/New_York:20200916T190000
DTSTAMP:20260423T072854
CREATED:20200728T144036Z
LAST-MODIFIED:20200728T144036Z
UID:51991-1600279200-1600282800@www.wbasny.org
SUMMARY:Annual Membership Party
DESCRIPTION:Brooklyn Chapter
URL:https://www.wbasny.org/event/annual-membership-party/
END:VEVENT
BEGIN:VEVENT
DTSTART;TZID=America/New_York:20200916T183000
DTEND;TZID=America/New_York:20200916T193000
DTSTAMP:20260423T072854
CREATED:20200908T225925Z
LAST-MODIFIED:20200908T230005Z
UID:52326-1600281000-1600284600@www.wbasny.org
SUMMARY:Voting Rights – A Non-Partisan Discussion of Current Challenges on the Road to the 2020 Elections
DESCRIPTION:New York Chapter \nThe New York Women’s Bar Association Foundation\, Inc. presents \nVoting Rights – A Non-Partisan Discussion of\nCurrent Challenges on the Road to the 2020 Elections \nSpeaker:\nEliza Sweren-Becker\nCounsel\, Democracy Program\nBrennan Center for Justice at NYU School of Law \nModerated by Annie M. Ugurlayan\, Treasurer\, NYWBAF \nVia Zoom Webinar \nCost: $25\, All proceeds will benefit the NYWBAF and its projects. \nClick here for more info and to RSVP.
URL:https://www.wbasny.org/event/voting-rights-a-non-partisan-discussion-of-current-challenges-on-the-road-to-the-2020-elections/
END:VEVENT
BEGIN:VEVENT
DTSTART;TZID=America/New_York:20200916T183000
DTEND;TZID=America/New_York:20200916T193000
DTSTAMP:20260423T072854
CREATED:20200909T145458Z
LAST-MODIFIED:20200909T145509Z
UID:52357-1600281000-1600284600@www.wbasny.org
SUMMARY:Voting Rights – A Non-Partisan Discussion of Current Challenges on the Road to the 2020 Elections
DESCRIPTION:New York Chapter \nThe New York Women’s Bar Association Foundation\, Inc. presents \nVoting Rights – A Non-Partisan Discussion of\nCurrent Challenges on the Road to the 2020 Elections \nSpeaker:\nEliza Sweren-Becker\nCounsel\, Democracy Program\nBrennan Center for Justice at NYU School of Law \nModerated by Annie M. Ugurlayan\, Treasurer\, NYWBAF \nVia Zoom Webinar \nCost: $25\, All proceeds will benefit the NYWBAF and its projects. \nClick here for more info and to RSVP.
URL:https://www.wbasny.org/event/voting-rights-a-non-partisan-discussion-of-current-challenges-on-the-road-to-the-2020-elections-2/
END:VEVENT
END:VCALENDAR