BEGIN:VCALENDAR
VERSION:2.0
PRODID:-//wbasny - ECPv6.15.20//NONSGML v1.0//EN
CALSCALE:GREGORIAN
METHOD:PUBLISH
X-WR-CALNAME:wbasny
X-ORIGINAL-URL:https://www.wbasny.org
X-WR-CALDESC:Events for wbasny
REFRESH-INTERVAL;VALUE=DURATION:PT1H
X-Robots-Tag:noindex
X-PUBLISHED-TTL:PT1H
BEGIN:VTIMEZONE
TZID:America/New_York
BEGIN:DAYLIGHT
TZOFFSETFROM:-0500
TZOFFSETTO:-0400
TZNAME:EDT
DTSTART:20190310T070000
END:DAYLIGHT
BEGIN:STANDARD
TZOFFSETFROM:-0400
TZOFFSETTO:-0500
TZNAME:EST
DTSTART:20191103T060000
END:STANDARD
BEGIN:DAYLIGHT
TZOFFSETFROM:-0500
TZOFFSETTO:-0400
TZNAME:EDT
DTSTART:20200308T070000
END:DAYLIGHT
BEGIN:STANDARD
TZOFFSETFROM:-0400
TZOFFSETTO:-0500
TZNAME:EST
DTSTART:20201101T060000
END:STANDARD
BEGIN:DAYLIGHT
TZOFFSETFROM:-0500
TZOFFSETTO:-0400
TZNAME:EDT
DTSTART:20210314T070000
END:DAYLIGHT
BEGIN:STANDARD
TZOFFSETFROM:-0400
TZOFFSETTO:-0500
TZNAME:EST
DTSTART:20211107T060000
END:STANDARD
END:VTIMEZONE
BEGIN:VEVENT
DTSTART;TZID=America/New_York:20201020T140000
DTEND;TZID=America/New_York:20201020T150000
DTSTAMP:20260423T024033
CREATED:20200902T193207Z
LAST-MODIFIED:20200902T193629Z
UID:52265-1603202400-1603206000@www.wbasny.org
SUMMARY:Still Broken: Sexual Harassment and Misconduct in the Legal Profession
DESCRIPTION:NCWBA
URL:https://www.wbasny.org/event/still-broken-sexual-harassment-and-misconduct-in-the-legal-profession/
ORGANIZER;CN="National Conference of Women's Bar Associations":MAILTO:info@ncwba.org
END:VEVENT
BEGIN:VEVENT
DTSTART;TZID=America/New_York:20201020T173000
DTEND;TZID=America/New_York:20201020T193000
DTSTAMP:20260423T024033
CREATED:20201012T205634Z
LAST-MODIFIED:20201012T205634Z
UID:52721-1603215000-1603222200@www.wbasny.org
SUMMARY:Recent Significant Developments and Decisions from NYS Appellate Courts
DESCRIPTION:Queens Chapter
URL:https://www.wbasny.org/event/recent-significant-developments-and-decisions-from-nys-appellate-courts/
END:VEVENT
BEGIN:VEVENT
DTSTART;TZID=America/New_York:20201020T180000
DTEND;TZID=America/New_York:20201020T200000
DTSTAMP:20260423T024033
CREATED:20201001T200917Z
LAST-MODIFIED:20201001T200917Z
UID:52542-1603216800-1603224000@www.wbasny.org
SUMMARY:Power of the Vote 2020
DESCRIPTION:Brooklyn Chapter
URL:https://www.wbasny.org/event/power-of-the-vote-2020/
END:VEVENT
END:VCALENDAR