BEGIN:VCALENDAR
VERSION:2.0
PRODID:-//wbasny - ECPv6.15.20//NONSGML v1.0//EN
CALSCALE:GREGORIAN
METHOD:PUBLISH
X-ORIGINAL-URL:https://www.wbasny.org
X-WR-CALDESC:Events for wbasny
REFRESH-INTERVAL;VALUE=DURATION:PT1H
X-Robots-Tag:noindex
X-PUBLISHED-TTL:PT1H
BEGIN:VTIMEZONE
TZID:America/New_York
BEGIN:DAYLIGHT
TZOFFSETFROM:-0500
TZOFFSETTO:-0400
TZNAME:EDT
DTSTART:20190310T070000
END:DAYLIGHT
BEGIN:STANDARD
TZOFFSETFROM:-0400
TZOFFSETTO:-0500
TZNAME:EST
DTSTART:20191103T060000
END:STANDARD
BEGIN:DAYLIGHT
TZOFFSETFROM:-0500
TZOFFSETTO:-0400
TZNAME:EDT
DTSTART:20200308T070000
END:DAYLIGHT
BEGIN:STANDARD
TZOFFSETFROM:-0400
TZOFFSETTO:-0500
TZNAME:EST
DTSTART:20201101T060000
END:STANDARD
BEGIN:DAYLIGHT
TZOFFSETFROM:-0500
TZOFFSETTO:-0400
TZNAME:EDT
DTSTART:20210314T070000
END:DAYLIGHT
BEGIN:STANDARD
TZOFFSETFROM:-0400
TZOFFSETTO:-0500
TZNAME:EST
DTSTART:20211107T060000
END:STANDARD
END:VTIMEZONE
BEGIN:VEVENT
DTSTART;TZID=America/New_York:20201029T124500
DTEND;TZID=America/New_York:20201029T134500
DTSTAMP:20260423T004400
CREATED:20201028T214324Z
LAST-MODIFIED:20201028T214324Z
UID:52911-1603975500-1603979100@www.wbasny.org
SUMMARY:Shielding the Abused: Elder Abuse - A Growing Problem
DESCRIPTION:Suffolk Chapter
URL:https://www.wbasny.org/event/shielding-the-abused-elder-abuse-a-growing-problem/
END:VEVENT
BEGIN:VEVENT
DTSTART;TZID=America/New_York:20201029T163000
DTEND;TZID=America/New_York:20201029T173000
DTSTAMP:20260423T004400
CREATED:20201008T185943Z
LAST-MODIFIED:20201008T185943Z
UID:52656-1603989000-1603992600@www.wbasny.org
SUMMARY:Garden of Hope Pink Flag Campaign
DESCRIPTION:Staten Island Chapter \n \nVIRTUAL TRIBUTE GARDEN DISPLAY October 29th\, 2020 at 4:30 PM  \nTributes honor every life touched by cancer. You can dedicate them to a loved one lost\, someone currently battling cancer\, or anyone who’s overcome it. \nNow and all throughout October\, CLICK HERE to make a dedication in the Garden of Hope! You can also purchase your own 5”x 8” Pink Flags via AMAZON and create a beautiful garden of PINK to display outside your school\, home or business throughout the month of October! \nCLICK HERE to learn more about the virtual tribute garden on October 29th!
URL:https://www.wbasny.org/event/garden-of-hope-pink-flag-campaign/
END:VEVENT
BEGIN:VEVENT
DTSTART;TZID=America/New_York:20201029T170000
DTEND;TZID=America/New_York:20201029T190000
DTSTAMP:20260423T004400
CREATED:20201005T203720Z
LAST-MODIFIED:20201026T202540Z
UID:52584-1603990800-1603998000@www.wbasny.org
SUMMARY:Cancelled - Meet the Presiding Justices
DESCRIPTION:Western New York
URL:https://www.wbasny.org/event/meet-the-presiding-justices/
ORGANIZER;CN="Western New York Women's Bar Association":MAILTO:wbasnywny@gmail.com
END:VEVENT
BEGIN:VEVENT
DTSTART;TZID=America/New_York:20201029T173000
DTEND;TZID=America/New_York:20201029T183000
DTSTAMP:20260423T004400
CREATED:20201008T175403Z
LAST-MODIFIED:20201026T202240Z
UID:52629-1603992600-1603996200@www.wbasny.org
SUMMARY:Postponed - Annual Judicial Reception
DESCRIPTION:Orange-Sullivan Chapter \nAnnual Judicial Reception \nOtterkill Golf & Country Club\, 100 Otter Road\, Campbell Hall\, New York 10916 \nPlease plan to join us for this year’s reception honoring and thanking our judiciary at an outdoor dinner\, complete with heaters\, and a tent if necessary.
URL:https://www.wbasny.org/event/annual-judicial-reception/
END:VEVENT
END:VCALENDAR