BEGIN:VCALENDAR
VERSION:2.0
PRODID:-//wbasny - ECPv6.15.20//NONSGML v1.0//EN
CALSCALE:GREGORIAN
METHOD:PUBLISH
X-WR-CALNAME:wbasny
X-ORIGINAL-URL:https://www.wbasny.org
X-WR-CALDESC:Events for wbasny
REFRESH-INTERVAL;VALUE=DURATION:PT1H
X-Robots-Tag:noindex
X-PUBLISHED-TTL:PT1H
BEGIN:VTIMEZONE
TZID:America/New_York
BEGIN:DAYLIGHT
TZOFFSETFROM:-0500
TZOFFSETTO:-0400
TZNAME:EDT
DTSTART:20190310T070000
END:DAYLIGHT
BEGIN:STANDARD
TZOFFSETFROM:-0400
TZOFFSETTO:-0500
TZNAME:EST
DTSTART:20191103T060000
END:STANDARD
BEGIN:DAYLIGHT
TZOFFSETFROM:-0500
TZOFFSETTO:-0400
TZNAME:EDT
DTSTART:20200308T070000
END:DAYLIGHT
BEGIN:STANDARD
TZOFFSETFROM:-0400
TZOFFSETTO:-0500
TZNAME:EST
DTSTART:20201101T060000
END:STANDARD
BEGIN:DAYLIGHT
TZOFFSETFROM:-0500
TZOFFSETTO:-0400
TZNAME:EDT
DTSTART:20210314T070000
END:DAYLIGHT
BEGIN:STANDARD
TZOFFSETFROM:-0400
TZOFFSETTO:-0500
TZNAME:EST
DTSTART:20211107T060000
END:STANDARD
END:VTIMEZONE
BEGIN:VEVENT
DTSTART;TZID=America/New_York:20201102T173000
DTEND;TZID=America/New_York:20201102T183000
DTSTAMP:20260423T002956
CREATED:20201028T213021Z
LAST-MODIFIED:20201028T213055Z
UID:52908-1604338200-1604341800@www.wbasny.org
SUMMARY:Trailblazing Women
DESCRIPTION:Queens Chapter
URL:https://www.wbasny.org/event/trailblazing-women/
END:VEVENT
BEGIN:VEVENT
DTSTART;TZID=America/New_York:20201102T173000
DTEND;TZID=America/New_York:20201102T200000
DTSTAMP:20260423T002956
CREATED:20200817T204351Z
LAST-MODIFIED:20200817T204351Z
UID:52170-1604338200-1604347200@www.wbasny.org
SUMMARY:Officers Meeting
DESCRIPTION:WBASNY \n 
URL:https://www.wbasny.org/event/officers-meeting-4/
ORGANIZER;CN="WBASNY":MAILTO:events@wbasny.org
END:VEVENT
END:VCALENDAR