BEGIN:VCALENDAR
VERSION:2.0
PRODID:-//wbasny - ECPv6.15.20//NONSGML v1.0//EN
CALSCALE:GREGORIAN
METHOD:PUBLISH
X-WR-CALNAME:wbasny
X-ORIGINAL-URL:https://www.wbasny.org
X-WR-CALDESC:Events for wbasny
REFRESH-INTERVAL;VALUE=DURATION:PT1H
X-Robots-Tag:noindex
X-PUBLISHED-TTL:PT1H
BEGIN:VTIMEZONE
TZID:America/New_York
BEGIN:DAYLIGHT
TZOFFSETFROM:-0500
TZOFFSETTO:-0400
TZNAME:EDT
DTSTART:20190310T070000
END:DAYLIGHT
BEGIN:STANDARD
TZOFFSETFROM:-0400
TZOFFSETTO:-0500
TZNAME:EST
DTSTART:20191103T060000
END:STANDARD
BEGIN:DAYLIGHT
TZOFFSETFROM:-0500
TZOFFSETTO:-0400
TZNAME:EDT
DTSTART:20200308T070000
END:DAYLIGHT
BEGIN:STANDARD
TZOFFSETFROM:-0400
TZOFFSETTO:-0500
TZNAME:EST
DTSTART:20201101T060000
END:STANDARD
BEGIN:DAYLIGHT
TZOFFSETFROM:-0500
TZOFFSETTO:-0400
TZNAME:EDT
DTSTART:20210314T070000
END:DAYLIGHT
BEGIN:STANDARD
TZOFFSETFROM:-0400
TZOFFSETTO:-0500
TZNAME:EST
DTSTART:20211107T060000
END:STANDARD
END:VTIMEZONE
BEGIN:VEVENT
DTSTART;TZID=America/New_York:20201117T130000
DTEND;TZID=America/New_York:20201117T140000
DTSTAMP:20260422T231624
CREATED:20201030T162905Z
LAST-MODIFIED:20201030T163719Z
UID:52979-1605618000-1605621600@www.wbasny.org
SUMMARY:CLE - New York’s Raise the Age Legislation: An Overview and Update A Panel Discussion
DESCRIPTION:Staten Island Chapter \nNew York’s Raise the Age Legislation: An Overview and Update A Panel Discussion \nPanelists: \nHon. Alison M. Hamanjian\nAntonia Assenso\, Esq.\nManuel Ortega\, Esq. \n1.0 Professional Practice Credit \n(WBASNY is the accredited CLE provider) \nFREE FOR ALL SIWBA and WBASNY MEMBERS \n$25 for Non-members \nWebinar Registration Link will be provided upon RSVP. \nRegister by email\nRegister by Eventbrite \n 
URL:https://www.wbasny.org/event/cle-new-yorks-raise-the-age-legislation-an-overview-and-update-a-panel-discussion/
END:VEVENT
BEGIN:VEVENT
DTSTART;TZID=America/New_York:20201117T130000
DTEND;TZID=America/New_York:20201117T143000
DTSTAMP:20260422T231624
CREATED:20201020T184047Z
LAST-MODIFIED:20201020T184047Z
UID:52789-1605618000-1605623400@www.wbasny.org
SUMMARY:CLE - Immigration Law: What Every Attorney Need to Know
DESCRIPTION:Brooklyn Chapter
URL:https://www.wbasny.org/event/cle-immigration-law-what-every-attorney-need-to-know/
END:VEVENT
BEGIN:VEVENT
DTSTART;TZID=America/New_York:20201117T173000
DTEND;TZID=America/New_York:20201117T183000
DTSTAMP:20260422T231624
CREATED:20201111T213239Z
LAST-MODIFIED:20201111T213249Z
UID:53238-1605634200-1605637800@www.wbasny.org
SUMMARY:Book Club
DESCRIPTION:Orange-Sullivan Chapter \nJacobowitz and Gubits LLP \nWe will be discussing The Wives by Tarryn Fisher and selecting the next books. Conference line is available upon request to dial-in to the meeting. \nThe conference room walls will be opened to create a large space to permit social distancing. Beverages will be provided\, please feel free to bring snacks. \nPlease rsvp to Kelly at kap@jacobowitz.com
URL:https://www.wbasny.org/event/book-club-6/
END:VEVENT
END:VCALENDAR