BEGIN:VCALENDAR
VERSION:2.0
PRODID:-//wbasny - ECPv6.15.20//NONSGML v1.0//EN
CALSCALE:GREGORIAN
METHOD:PUBLISH
X-WR-CALNAME:wbasny
X-ORIGINAL-URL:https://www.wbasny.org
X-WR-CALDESC:Events for wbasny
REFRESH-INTERVAL;VALUE=DURATION:PT1H
X-Robots-Tag:noindex
X-PUBLISHED-TTL:PT1H
BEGIN:VTIMEZONE
TZID:America/New_York
BEGIN:DAYLIGHT
TZOFFSETFROM:-0500
TZOFFSETTO:-0400
TZNAME:EDT
DTSTART:20190310T070000
END:DAYLIGHT
BEGIN:STANDARD
TZOFFSETFROM:-0400
TZOFFSETTO:-0500
TZNAME:EST
DTSTART:20191103T060000
END:STANDARD
BEGIN:DAYLIGHT
TZOFFSETFROM:-0500
TZOFFSETTO:-0400
TZNAME:EDT
DTSTART:20200308T070000
END:DAYLIGHT
BEGIN:STANDARD
TZOFFSETFROM:-0400
TZOFFSETTO:-0500
TZNAME:EST
DTSTART:20201101T060000
END:STANDARD
BEGIN:DAYLIGHT
TZOFFSETFROM:-0500
TZOFFSETTO:-0400
TZNAME:EDT
DTSTART:20210314T070000
END:DAYLIGHT
BEGIN:STANDARD
TZOFFSETFROM:-0400
TZOFFSETTO:-0500
TZNAME:EST
DTSTART:20211107T060000
END:STANDARD
END:VTIMEZONE
BEGIN:VEVENT
DTSTART;TZID=America/New_York:20201118T080000
DTEND;TZID=America/New_York:20201120T170000
DTSTAMP:20260422T231621
CREATED:20201030T162153Z
LAST-MODIFIED:20201030T162153Z
UID:52974-1605686400-1605891600@www.wbasny.org
SUMMARY:Domestic/Family Violence in the COVID-19 Era
DESCRIPTION:United Nations\, NGO Alliance
URL:https://www.wbasny.org/event/domestic-family-violence-in-the-covid-19-era/
END:VEVENT
BEGIN:VEVENT
DTSTART;TZID=America/New_York:20201119T120000
DTEND;TZID=America/New_York:20201119T130000
DTSTAMP:20260422T231621
CREATED:20201116T232159Z
LAST-MODIFIED:20201116T232259Z
UID:53261-1605787200-1605790800@www.wbasny.org
SUMMARY:CLE - Cybersecurity and Risk Transfer
DESCRIPTION:Western New York Chapter
URL:https://www.wbasny.org/event/cle-cybersecurity-and-risk-transfer/
ORGANIZER;CN="Western New York Women's Bar Association":MAILTO:wbasnywny@gmail.com
END:VEVENT
BEGIN:VEVENT
DTSTART;TZID=America/New_York:20201119T123000
DTEND;TZID=America/New_York:20201119T133000
DTSTAMP:20260422T231621
CREATED:20201110T211046Z
LAST-MODIFIED:20201110T211123Z
UID:53221-1605789000-1605792600@www.wbasny.org
SUMMARY:CLE - New 7th Judicial District Mediator Program
DESCRIPTION:Rochester Chapter \nCLE: New 7th Judicial District Mediator Program: \nPlease join us for an hour-long CLE discussing the NYS Presumptive ADR Program\, introducing the new Mediator Panel Program\, providing guidelines for those interested in serving on the panel\, and addressing ethics in mediation. \nCLE Credit: .5 ethics\, .5 skills \nRSVP by Monday\, November 16 at https://squareup.com/store/grawa\nMembers: $20\, Non-Members: $30 \nSponsored by GRAWA\, MCBA\, and Bond\, Schoeneck & King
URL:https://www.wbasny.org/event/cle-new-7th-judicial-district-mediator-program/
END:VEVENT
BEGIN:VEVENT
DTSTART;TZID=America/New_York:20201119T173000
DTEND;TZID=America/New_York:20201119T203000
DTSTAMP:20260422T231621
CREATED:20201110T211326Z
LAST-MODIFIED:20201110T211423Z
UID:53225-1605807000-1605817800@www.wbasny.org
SUMMARY:Board and Brush Creative Studio
DESCRIPTION:Orange-Sullivan Chapter
URL:https://www.wbasny.org/event/53225/
END:VEVENT
BEGIN:VEVENT
DTSTART;TZID=America/New_York:20201119T180000
DTEND;TZID=America/New_York:20201119T190000
DTSTAMP:20260422T231621
CREATED:20201029T144353Z
LAST-MODIFIED:20201029T144353Z
UID:52965-1605808800-1605812400@www.wbasny.org
SUMMARY:How Are Your Coping? A Mental Wellness Check-In
DESCRIPTION:Queens Chapter
URL:https://www.wbasny.org/event/how-are-your-coping-a-mental-wellness-check-in/
END:VEVENT
BEGIN:VEVENT
DTSTART;TZID=America/New_York:20201119T180000
DTEND;TZID=America/New_York:20201119T200000
DTSTAMP:20260422T231621
CREATED:20201117T223458Z
LAST-MODIFIED:20201117T223458Z
UID:53290-1605808800-1605816000@www.wbasny.org
SUMMARY:My Path to the Bench
DESCRIPTION:Bronx Chapter
URL:https://www.wbasny.org/event/my-path-to-the-bench/
END:VEVENT
END:VCALENDAR