BEGIN:VCALENDAR
VERSION:2.0
PRODID:-//wbasny - ECPv6.15.20//NONSGML v1.0//EN
CALSCALE:GREGORIAN
METHOD:PUBLISH
X-WR-CALNAME:wbasny
X-ORIGINAL-URL:https://www.wbasny.org
X-WR-CALDESC:Events for wbasny
REFRESH-INTERVAL;VALUE=DURATION:PT1H
X-Robots-Tag:noindex
X-PUBLISHED-TTL:PT1H
BEGIN:VTIMEZONE
TZID:America/New_York
BEGIN:DAYLIGHT
TZOFFSETFROM:-0500
TZOFFSETTO:-0400
TZNAME:EDT
DTSTART:20190310T070000
END:DAYLIGHT
BEGIN:STANDARD
TZOFFSETFROM:-0400
TZOFFSETTO:-0500
TZNAME:EST
DTSTART:20191103T060000
END:STANDARD
BEGIN:DAYLIGHT
TZOFFSETFROM:-0500
TZOFFSETTO:-0400
TZNAME:EDT
DTSTART:20200308T070000
END:DAYLIGHT
BEGIN:STANDARD
TZOFFSETFROM:-0400
TZOFFSETTO:-0500
TZNAME:EST
DTSTART:20201101T060000
END:STANDARD
BEGIN:DAYLIGHT
TZOFFSETFROM:-0500
TZOFFSETTO:-0400
TZNAME:EDT
DTSTART:20210314T070000
END:DAYLIGHT
BEGIN:STANDARD
TZOFFSETFROM:-0400
TZOFFSETTO:-0500
TZNAME:EST
DTSTART:20211107T060000
END:STANDARD
END:VTIMEZONE
BEGIN:VEVENT
DTSTART;TZID=America/New_York:20201203T120000
DTEND;TZID=America/New_York:20201203T130000
DTSTAMP:20260422T211356
CREATED:20201104T202847Z
LAST-MODIFIED:20201104T202847Z
UID:53182-1606996800-1607000400@www.wbasny.org
SUMMARY:CLE - Child Support Services: NYS Title IV-D Program Overview and the Impacts of COVID-19
DESCRIPTION:WBASNY \n 
URL:https://www.wbasny.org/event/cle-child-support-services-nys-title-iv-d-program-overview-and-the-impacts-of-covid-19/
ORGANIZER;CN="WBASNY":MAILTO:events@wbasny.org
END:VEVENT
BEGIN:VEVENT
DTSTART;TZID=America/New_York:20201203T120000
DTEND;TZID=America/New_York:20201203T130000
DTSTAMP:20260422T211356
CREATED:20201123T181413Z
LAST-MODIFIED:20201123T181413Z
UID:53342-1606996800-1607000400@www.wbasny.org
SUMMARY:Own Your Future Masterclass
DESCRIPTION:Western New York Chapter \nThe Own Your Future Masterclass was created to help women take the first steps to gain financial freedom and live their ideal life. Instead of feelings of uncertainty\, overwhelm or guilt when it comes to money\, this course will help you define your financial goals and practical solutions to achieve them! In this course\, you will learn: \n❖ Recognizing your money habits and how to positively change your money mindset\n❖ How to create the ultimate spend plan (instead of a budget!).\n❖ Learn what you should be paying off and when\n❖ Understand your net worth- what you own and what you owe\n❖ Retirement planning & why you should start now\n❖ Learn the basics about investing and questions you should be asking\n❖ Steps to protect your assets \nOwn Your Future is designed to empower women to take action on what’s important & the ways to achieve financial freedom! Understanding your money and having a plan allows you to have choices and the ability to do more of what you want and live your best life. It also helps you to show up in ways that YOU want for those you love the most. Together\, let’s create the future you DESERVE and start on your journey to building security and wealth!\nFull program details \nThis event is intended for WBASNY WNY Members only\, please! \nJoin Zoom Meeting\nhttps://zoom.us/j/93977544661?pwd=Ni91QnZCOEo2dDYwUFVRaVRCQmpaZz09 \nMeeting ID: 939 7754 4661\nPasscode: 097509\nOne tap mobile\n+16465588656\,\,93977544661#\,\,\,\,\,\,0#\,\,097509# US (New York)\n+13126266799\,\,93977544661#\,\,\,\,\,\,0#\,\,097509# US (Chicago) \nDial by your location\n+1 646 558 8656 US (New York)\nFind your local number: https://zoom.us/u/acUSInixsu
URL:https://www.wbasny.org/event/own-your-future-masterclass/
ORGANIZER;CN="Western New York Women's Bar Association":MAILTO:wbasnywny@gmail.com
END:VEVENT
BEGIN:VEVENT
DTSTART;TZID=America/New_York:20201203T123000
DTEND;TZID=America/New_York:20201203T133000
DTSTAMP:20260422T211356
CREATED:20201123T184027Z
LAST-MODIFIED:20201123T184027Z
UID:53359-1606998600-1607002200@www.wbasny.org
SUMMARY:Duties of the Referee - Residential Mortgage Foreclosure
DESCRIPTION:Orange-Sullivan Chapter \nBy Marie Nicholson\, Esq.\nGross\, Polowy\, LLC \n1.0 CLE Credit Areas of Professional Practice \nPlease RSVP to rsvp@wbaosc.org
URL:https://www.wbasny.org/event/duties-of-the-referee-residential-mortgage-foreclosure/
END:VEVENT
BEGIN:VEVENT
DTSTART;TZID=America/New_York:20201203T180000
DTEND;TZID=America/New_York:20201203T190000
DTSTAMP:20260422T211356
CREATED:20201105T164807Z
LAST-MODIFIED:20201105T164807Z
UID:53187-1607018400-1607022000@www.wbasny.org
SUMMARY:Virtual Holiday Trivia Event
DESCRIPTION:Staten Island Chapter
URL:https://www.wbasny.org/event/virtual-holiday-trivia-event/
END:VEVENT
BEGIN:VEVENT
DTSTART;TZID=America/New_York:20201203T180000
DTEND;TZID=America/New_York:20201203T190000
DTSTAMP:20260422T211356
CREATED:20201117T232116Z
LAST-MODIFIED:20201117T232116Z
UID:53298-1607018400-1607022000@www.wbasny.org
SUMMARY:Virtual Event with Carla Hall
DESCRIPTION:Western New York Chapter
URL:https://www.wbasny.org/event/virtual-event-with-carla-hall/
ORGANIZER;CN="Western New York Women's Bar Association":MAILTO:wbasnywny@gmail.com
END:VEVENT
BEGIN:VEVENT
DTSTART;TZID=America/New_York:20201203T180000
DTEND;TZID=America/New_York:20201203T200000
DTSTAMP:20260422T211356
CREATED:20201202T205445Z
LAST-MODIFIED:20201202T213906Z
UID:53433-1607018400-1607025600@www.wbasny.org
SUMMARY:QCWBA - "Holiday Trivia Night"
DESCRIPTION:Queens Chapter
URL:https://www.wbasny.org/event/queens-chapter-holiday-trivia-night/
END:VEVENT
END:VCALENDAR