BEGIN:VCALENDAR
VERSION:2.0
PRODID:-//wbasny - ECPv6.15.20//NONSGML v1.0//EN
CALSCALE:GREGORIAN
METHOD:PUBLISH
X-ORIGINAL-URL:https://www.wbasny.org
X-WR-CALDESC:Events for wbasny
REFRESH-INTERVAL;VALUE=DURATION:PT1H
X-Robots-Tag:noindex
X-PUBLISHED-TTL:PT1H
BEGIN:VTIMEZONE
TZID:America/New_York
BEGIN:DAYLIGHT
TZOFFSETFROM:-0500
TZOFFSETTO:-0400
TZNAME:EDT
DTSTART:20190310T070000
END:DAYLIGHT
BEGIN:STANDARD
TZOFFSETFROM:-0400
TZOFFSETTO:-0500
TZNAME:EST
DTSTART:20191103T060000
END:STANDARD
BEGIN:DAYLIGHT
TZOFFSETFROM:-0500
TZOFFSETTO:-0400
TZNAME:EDT
DTSTART:20200308T070000
END:DAYLIGHT
BEGIN:STANDARD
TZOFFSETFROM:-0400
TZOFFSETTO:-0500
TZNAME:EST
DTSTART:20201101T060000
END:STANDARD
BEGIN:DAYLIGHT
TZOFFSETFROM:-0500
TZOFFSETTO:-0400
TZNAME:EDT
DTSTART:20210314T070000
END:DAYLIGHT
BEGIN:STANDARD
TZOFFSETFROM:-0400
TZOFFSETTO:-0500
TZNAME:EST
DTSTART:20211107T060000
END:STANDARD
END:VTIMEZONE
BEGIN:VEVENT
DTSTART;TZID=America/New_York:20201214T173000
DTEND;TZID=America/New_York:20201214T190000
DTSTAMP:20260422T225756
CREATED:20201116T233106Z
LAST-MODIFIED:20201116T233106Z
UID:53270-1607967000-1607972400@www.wbasny.org
SUMMARY:Holiday Celebration and Auction
DESCRIPTION:Brooklyn Chapter
URL:https://www.wbasny.org/event/holiday-celebration-and-auction/
END:VEVENT
BEGIN:VEVENT
DTSTART;TZID=America/New_York:20201214T180000
DTEND;TZID=America/New_York:20201214T193000
DTSTAMP:20260422T225756
CREATED:20200817T205016Z
LAST-MODIFIED:20200817T205024Z
UID:52176-1607968800-1607974200@www.wbasny.org
SUMMARY:Officers Conference Call
DESCRIPTION:WBASNY \n 
URL:https://www.wbasny.org/event/officers-conference-call-2/
ORGANIZER;CN="WBASNY":MAILTO:events@wbasny.org
END:VEVENT
BEGIN:VEVENT
DTSTART;TZID=America/New_York:20201214T183000
DTEND;TZID=America/New_York:20201214T200000
DTSTAMP:20260422T225756
CREATED:20201124T160806Z
LAST-MODIFIED:20201124T160806Z
UID:53382-1607970600-1607976000@www.wbasny.org
SUMMARY:Human Trafficking Committee Meeting
DESCRIPTION:New York Chapter \nPlease join us for the December meeting of the NYWBA Human Trafficking Committee. Taina Bien Amie\, the Executive Director of Coalition Against Trafficking in Women\, will present on the history of the Equality Model (a legal framework where the selling of sex is  decriminalized\, but buyers and promoters are still held accountable) and provide us with a global perspective.  Joining Taina in the presentation will be a trafficking survivor who will explain why this model is so important to people with lived experience as survivors of the sex trade.  The Equality Model is a major piece of this committee’s legislative agenda for the year. \nWe are excited to be welcoming several new members of the committee. We will also discuss other pieces of the committee’s legislative agenda\, start planning our CLEs and educational and outreach panels related to human trafficking.  In addition to committee members\, we welcome any WBASNY members who would like to learn more about the Equality Model or who may be interested in joining our committee to attend this meeting. \nvia Zoom \nRSVP jaynebigelsen@gmail.com \nFree to Committee Members and other interested members of WBASNY.
URL:https://www.wbasny.org/event/human-trafficking-committee-meeting/
END:VEVENT
BEGIN:VEVENT
DTSTART;TZID=America/New_York:20201214T190000
DTEND;TZID=America/New_York:20201214T210000
DTSTAMP:20260422T225756
CREATED:20201208T155924Z
LAST-MODIFIED:20201208T155924Z
UID:53517-1607972400-1607979600@www.wbasny.org
SUMMARY:Nassau Chapter Holiday Virtual Game Night
DESCRIPTION:Nassau Chapter
URL:https://www.wbasny.org/event/nassau-chapter-holiday-virtual-game-night/
END:VEVENT
END:VCALENDAR