BEGIN:VCALENDAR
VERSION:2.0
PRODID:-//wbasny - ECPv6.15.20//NONSGML v1.0//EN
CALSCALE:GREGORIAN
METHOD:PUBLISH
X-WR-CALNAME:wbasny
X-ORIGINAL-URL:https://www.wbasny.org
X-WR-CALDESC:Events for wbasny
REFRESH-INTERVAL;VALUE=DURATION:PT1H
X-Robots-Tag:noindex
X-PUBLISHED-TTL:PT1H
BEGIN:VTIMEZONE
TZID:America/New_York
BEGIN:DAYLIGHT
TZOFFSETFROM:-0500
TZOFFSETTO:-0400
TZNAME:EDT
DTSTART:20190310T070000
END:DAYLIGHT
BEGIN:STANDARD
TZOFFSETFROM:-0400
TZOFFSETTO:-0500
TZNAME:EST
DTSTART:20191103T060000
END:STANDARD
BEGIN:DAYLIGHT
TZOFFSETFROM:-0500
TZOFFSETTO:-0400
TZNAME:EDT
DTSTART:20200308T070000
END:DAYLIGHT
BEGIN:STANDARD
TZOFFSETFROM:-0400
TZOFFSETTO:-0500
TZNAME:EST
DTSTART:20201101T060000
END:STANDARD
BEGIN:DAYLIGHT
TZOFFSETFROM:-0500
TZOFFSETTO:-0400
TZNAME:EDT
DTSTART:20210314T070000
END:DAYLIGHT
BEGIN:STANDARD
TZOFFSETFROM:-0400
TZOFFSETTO:-0500
TZNAME:EST
DTSTART:20211107T060000
END:STANDARD
END:VTIMEZONE
BEGIN:VEVENT
DTSTART;TZID=America/New_York:20201215T130000
DTEND;TZID=America/New_York:20201215T140000
DTSTAMP:20260422T211355
CREATED:20201202T192720Z
LAST-MODIFIED:20201202T192828Z
UID:53425-1608037200-1608040800@www.wbasny.org
SUMMARY:CLE -  How to Successfully Handle Retirement Benefit Division in Divorce Agreements
DESCRIPTION:Staten Island Chapter
URL:https://www.wbasny.org/event/cle-how-to-successfully-handle-retirement-benefit-division-in-divorce-agreements/
END:VEVENT
BEGIN:VEVENT
DTSTART;TZID=America/New_York:20201215T130000
DTEND;TZID=America/New_York:20201215T140000
DTSTAMP:20260422T211355
CREATED:20201202T215212Z
LAST-MODIFIED:20201209T152448Z
UID:53474-1608037200-1608040800@www.wbasny.org
SUMMARY:SIWBA CLE - How to Successfully Handle Retirement Benefit Division in Divorce Agreements
DESCRIPTION:Staten Island Chapter
URL:https://www.wbasny.org/event/siwba-virtual-cle-with-erin-l-colgan-esq/
END:VEVENT
BEGIN:VEVENT
DTSTART;TZID=America/New_York:20201215T170000
DTEND;TZID=America/New_York:20201215T180000
DTSTAMP:20260422T211355
CREATED:20201123T181730Z
LAST-MODIFIED:20201123T181845Z
UID:53346-1608051600-1608055200@www.wbasny.org
SUMMARY:Chocolate Martini & Cookie Decorating
DESCRIPTION:Western New York Chapter \nOn behalf of WBASNY\, Erie County Bar Association\, and Thomson Reuters\, you are welcome to participate in a holiday event for a craft cocktail and holiday cookie decoration on 12/15 at 5pm. \nJoin Chef Lawrence Rosenberg as he brings us an array of flavors that will delight your taste buds. If you like chocolate\, you do not want to miss this event.  \nJoin us online via Teams for this guided tasting where you will: \n\nCreate a chocolate martini\nDecorate holiday cookies with tips from Chef Larry\n\nPrior to the event\, you will receive a box in the mail including:  \nIngredients to create a chocolate martini \n\nOne chocolate spoon\nAn elegant martini glass with a bowl for ice\, to ensure you have a properly chilled cocktail\nA cocktail shaker\nOne package of Chef Larry’s delicious sugar cookies\nA decorating kit\, consisting of:\n\n\nFairy icing (just add water and mix)\nChef’s decorating tools\nCookie cutters to add to your collection\n\nPlease RSVP to Marissa Washington with your mailing address by Friday\, December 4th 2020!   \nWe will ship your gift box and send a cal endar invite your way.
URL:https://www.wbasny.org/event/chocolate-martini-cookie-decorating/
ORGANIZER;CN="Western New York Women's Bar Association":MAILTO:wbasnywny@gmail.com
END:VEVENT
BEGIN:VEVENT
DTSTART;TZID=America/New_York:20201215T180000
DTEND;TZID=America/New_York:20201215T190000
DTSTAMP:20260422T211355
CREATED:20201201T174419Z
LAST-MODIFIED:20201201T174457Z
UID:53419-1608055200-1608058800@www.wbasny.org
SUMMARY:Talking About Race
DESCRIPTION:WBASNY
URL:https://www.wbasny.org/event/talking-about-race/
END:VEVENT
BEGIN:VEVENT
DTSTART;TZID=America/New_York:20201215T190000
DTEND;TZID=America/New_York:20201215T203000
DTSTAMP:20260422T211355
CREATED:20201021T192621Z
LAST-MODIFIED:20201202T215522Z
UID:52815-1608058800-1608064200@www.wbasny.org
SUMMARY:Judiciary Night
DESCRIPTION:Queens Chapter
URL:https://www.wbasny.org/event/judiciary-night-2/
END:VEVENT
END:VCALENDAR