BEGIN:VCALENDAR
VERSION:2.0
PRODID:-//wbasny - ECPv6.15.20//NONSGML v1.0//EN
CALSCALE:GREGORIAN
METHOD:PUBLISH
X-WR-CALNAME:wbasny
X-ORIGINAL-URL:https://www.wbasny.org
X-WR-CALDESC:Events for wbasny
REFRESH-INTERVAL;VALUE=DURATION:PT1H
X-Robots-Tag:noindex
X-PUBLISHED-TTL:PT1H
BEGIN:VTIMEZONE
TZID:America/New_York
BEGIN:DAYLIGHT
TZOFFSETFROM:-0500
TZOFFSETTO:-0400
TZNAME:EDT
DTSTART:20200308T070000
END:DAYLIGHT
BEGIN:STANDARD
TZOFFSETFROM:-0400
TZOFFSETTO:-0500
TZNAME:EST
DTSTART:20201101T060000
END:STANDARD
BEGIN:DAYLIGHT
TZOFFSETFROM:-0500
TZOFFSETTO:-0400
TZNAME:EDT
DTSTART:20210314T070000
END:DAYLIGHT
BEGIN:STANDARD
TZOFFSETFROM:-0400
TZOFFSETTO:-0500
TZNAME:EST
DTSTART:20211107T060000
END:STANDARD
BEGIN:DAYLIGHT
TZOFFSETFROM:-0500
TZOFFSETTO:-0400
TZNAME:EDT
DTSTART:20220313T070000
END:DAYLIGHT
BEGIN:STANDARD
TZOFFSETFROM:-0400
TZOFFSETTO:-0500
TZNAME:EST
DTSTART:20221106T060000
END:STANDARD
END:VTIMEZONE
BEGIN:VEVENT
DTSTART;TZID=America/New_York:20210126T120000
DTEND;TZID=America/New_York:20210126T133000
DTSTAMP:20260422T174717
CREATED:20210122T171510Z
LAST-MODIFIED:20210122T171510Z
UID:53910-1611662400-1611667800@www.wbasny.org
SUMMARY:CLE - Cultural Humility & Competence: Serving Your Clients Better by Anticipating Diversity
DESCRIPTION:Orange-Sullivan Chapter
URL:https://www.wbasny.org/event/cle-cultural-humility-competence-serving-your-clients-better-by-anticipating-diversity/
END:VEVENT
BEGIN:VEVENT
DTSTART;TZID=America/New_York:20210126T180000
DTEND;TZID=America/New_York:20210126T190000
DTSTAMP:20260422T174717
CREATED:20210118T211143Z
LAST-MODIFIED:20210118T211143Z
UID:53894-1611684000-1611687600@www.wbasny.org
SUMMARY:Back to the 90's Trivia
DESCRIPTION:Brooklyn Chapter
URL:https://www.wbasny.org/event/back-to-the-90s-trivia/
END:VEVENT
BEGIN:VEVENT
DTSTART;TZID=America/New_York:20210126T180000
DTEND;TZID=America/New_York:20210126T200000
DTSTAMP:20260422T174717
CREATED:20201214T222728Z
LAST-MODIFIED:20201214T222728Z
UID:53572-1611684000-1611691200@www.wbasny.org
SUMMARY:Preparing for Mediation\, What Litigators Need to Know Before Walking in the Door
DESCRIPTION:New York Chapter
URL:https://www.wbasny.org/event/preparing-for-mediation-what-litigators-need-to-know-before-walking-in-the-door/
END:VEVENT
END:VCALENDAR