BEGIN:VCALENDAR
VERSION:2.0
PRODID:-//wbasny - ECPv6.15.20//NONSGML v1.0//EN
CALSCALE:GREGORIAN
METHOD:PUBLISH
X-WR-CALNAME:wbasny
X-ORIGINAL-URL:https://www.wbasny.org
X-WR-CALDESC:Events for wbasny
REFRESH-INTERVAL;VALUE=DURATION:PT1H
X-Robots-Tag:noindex
X-PUBLISHED-TTL:PT1H
BEGIN:VTIMEZONE
TZID:America/New_York
BEGIN:DAYLIGHT
TZOFFSETFROM:-0500
TZOFFSETTO:-0400
TZNAME:EDT
DTSTART:20200308T070000
END:DAYLIGHT
BEGIN:STANDARD
TZOFFSETFROM:-0400
TZOFFSETTO:-0500
TZNAME:EST
DTSTART:20201101T060000
END:STANDARD
BEGIN:DAYLIGHT
TZOFFSETFROM:-0500
TZOFFSETTO:-0400
TZNAME:EDT
DTSTART:20210314T070000
END:DAYLIGHT
BEGIN:STANDARD
TZOFFSETFROM:-0400
TZOFFSETTO:-0500
TZNAME:EST
DTSTART:20211107T060000
END:STANDARD
BEGIN:DAYLIGHT
TZOFFSETFROM:-0500
TZOFFSETTO:-0400
TZNAME:EDT
DTSTART:20220313T070000
END:DAYLIGHT
BEGIN:STANDARD
TZOFFSETFROM:-0400
TZOFFSETTO:-0500
TZNAME:EST
DTSTART:20221106T060000
END:STANDARD
END:VTIMEZONE
BEGIN:VEVENT
DTSTART;TZID=America/New_York:20210127T080000
DTEND;TZID=America/New_York:20210127T170000
DTSTAMP:20260422T174718
CREATED:20210112T155458Z
LAST-MODIFIED:20210112T155458Z
UID:53848-1611734400-1611766800@www.wbasny.org
SUMMARY:CLE: Online Hearings- A Tutorial and Discussion
DESCRIPTION:New York Chapter
URL:https://www.wbasny.org/event/cle-online-hearings-a-tutorial-and-discussion/
END:VEVENT
BEGIN:VEVENT
DTSTART;TZID=America/New_York:20210127T123000
DTEND;TZID=America/New_York:20210127T133000
DTSTAMP:20260422T174718
CREATED:20210104T152842Z
LAST-MODIFIED:20210104T152954Z
UID:53741-1611750600-1611754200@www.wbasny.org
SUMMARY:College Expenses in the COVID Age: What Divorcing Parents Need to Know
DESCRIPTION:Westchester Chapter
URL:https://www.wbasny.org/event/college-expenses-in-the-covid-age-what-divorcing-parents-need-to-know/
ORGANIZER;CN="Westchester Women's Bar Association":MAILTO:executivedirector@wwbany.org
END:VEVENT
BEGIN:VEVENT
DTSTART;TZID=America/New_York:20210127T130000
DTEND;TZID=America/New_York:20210127T150000
DTSTAMP:20260422T174718
CREATED:20201214T220719Z
LAST-MODIFIED:20201214T220719Z
UID:53564-1611752400-1611759600@www.wbasny.org
SUMMARY:Navigating the Integrated Guardianship/Housing Part
DESCRIPTION:New York Chapter
URL:https://www.wbasny.org/event/navigating-the-integrated-guardianship-housing-part/
END:VEVENT
BEGIN:VEVENT
DTSTART;TZID=America/New_York:20210127T130000
DTEND;TZID=America/New_York:20210127T150000
DTSTAMP:20260422T174718
CREATED:20210127T152329Z
LAST-MODIFIED:20210127T152329Z
UID:53992-1611752400-1611759600@www.wbasny.org
SUMMARY:Zoom Lunch with a Judge
DESCRIPTION:Bronx Chapter
URL:https://www.wbasny.org/event/zoom-lunch-with-a-judge-2/
END:VEVENT
END:VCALENDAR