BEGIN:VCALENDAR
VERSION:2.0
PRODID:-//wbasny - ECPv6.15.20//NONSGML v1.0//EN
CALSCALE:GREGORIAN
METHOD:PUBLISH
X-WR-CALNAME:wbasny
X-ORIGINAL-URL:https://www.wbasny.org
X-WR-CALDESC:Events for wbasny
REFRESH-INTERVAL;VALUE=DURATION:PT1H
X-Robots-Tag:noindex
X-PUBLISHED-TTL:PT1H
BEGIN:VTIMEZONE
TZID:America/New_York
BEGIN:DAYLIGHT
TZOFFSETFROM:-0500
TZOFFSETTO:-0400
TZNAME:EDT
DTSTART:20200308T070000
END:DAYLIGHT
BEGIN:STANDARD
TZOFFSETFROM:-0400
TZOFFSETTO:-0500
TZNAME:EST
DTSTART:20201101T060000
END:STANDARD
BEGIN:DAYLIGHT
TZOFFSETFROM:-0500
TZOFFSETTO:-0400
TZNAME:EDT
DTSTART:20210314T070000
END:DAYLIGHT
BEGIN:STANDARD
TZOFFSETFROM:-0400
TZOFFSETTO:-0500
TZNAME:EST
DTSTART:20211107T060000
END:STANDARD
BEGIN:DAYLIGHT
TZOFFSETFROM:-0500
TZOFFSETTO:-0400
TZNAME:EDT
DTSTART:20220313T070000
END:DAYLIGHT
BEGIN:STANDARD
TZOFFSETFROM:-0400
TZOFFSETTO:-0500
TZNAME:EST
DTSTART:20221106T060000
END:STANDARD
END:VTIMEZONE
BEGIN:VEVENT
DTSTART;TZID=America/New_York:20210217T120000
DTEND;TZID=America/New_York:20210217T140000
DTSTAMP:20260422T160528
CREATED:20210118T211812Z
LAST-MODIFIED:20210118T211841Z
UID:53899-1613563200-1613570400@www.wbasny.org
SUMMARY:CLE - What the 'Hack"?!' Data Security Issues for Your Firm and Your Clients
DESCRIPTION:Westchester Chapter \nWe are celebrating WWBA’s 45th year with a luncheon series called “Leading Lady Lawyers Monthly Luncheon Series\,” the February presentation is called “What the ‘Hack”?!’ Data Security Issues for Your Firm and Your Clients\,” presented on February 17\, 2021\, 12:00 – 2:00\, 1 ethics CLE credit\, 1 professional practice CLE credit\, $40 for WWBA and WBASNY members.
URL:https://www.wbasny.org/event/cle-what-the-hack-data-security-issues-for-your-firm-and-your-clients/
ORGANIZER;CN="Westchester Women's Bar Association":MAILTO:executivedirector@wwbany.org
END:VEVENT
END:VCALENDAR