BEGIN:VCALENDAR
VERSION:2.0
PRODID:-//wbasny - ECPv6.15.20//NONSGML v1.0//EN
CALSCALE:GREGORIAN
METHOD:PUBLISH
X-ORIGINAL-URL:https://www.wbasny.org
X-WR-CALDESC:Events for wbasny
REFRESH-INTERVAL;VALUE=DURATION:PT1H
X-Robots-Tag:noindex
X-PUBLISHED-TTL:PT1H
BEGIN:VTIMEZONE
TZID:America/New_York
BEGIN:DAYLIGHT
TZOFFSETFROM:-0500
TZOFFSETTO:-0400
TZNAME:EDT
DTSTART:20200308T070000
END:DAYLIGHT
BEGIN:STANDARD
TZOFFSETFROM:-0400
TZOFFSETTO:-0500
TZNAME:EST
DTSTART:20201101T060000
END:STANDARD
BEGIN:DAYLIGHT
TZOFFSETFROM:-0500
TZOFFSETTO:-0400
TZNAME:EDT
DTSTART:20210314T070000
END:DAYLIGHT
BEGIN:STANDARD
TZOFFSETFROM:-0400
TZOFFSETTO:-0500
TZNAME:EST
DTSTART:20211107T060000
END:STANDARD
BEGIN:DAYLIGHT
TZOFFSETFROM:-0500
TZOFFSETTO:-0400
TZNAME:EDT
DTSTART:20220313T070000
END:DAYLIGHT
BEGIN:STANDARD
TZOFFSETFROM:-0400
TZOFFSETTO:-0500
TZNAME:EST
DTSTART:20221106T060000
END:STANDARD
END:VTIMEZONE
BEGIN:VEVENT
DTSTART;TZID=America/New_York:20210218T130000
DTEND;TZID=America/New_York:20210218T140000
DTSTAMP:20260422T160004
CREATED:20210122T172528Z
LAST-MODIFIED:20210122T172528Z
UID:53915-1613653200-1613656800@www.wbasny.org
SUMMARY:CLE - Improving Outcomes for Families
DESCRIPTION:Staten Island Chapter
URL:https://www.wbasny.org/event/cle-improving-outcomes-for-families/
END:VEVENT
BEGIN:VEVENT
DTSTART;TZID=America/New_York:20210218T193000
DTEND;TZID=America/New_York:20210218T203000
DTSTAMP:20260422T160004
CREATED:20210118T210742Z
LAST-MODIFIED:20210118T210742Z
UID:53891-1613676600-1613680200@www.wbasny.org
SUMMARY:Books and Bottles Club: “So You Want to Talk About Race”
DESCRIPTION:Rochester Chapter \nBooks and Bottles Club: “So You Want to Talk About Race” by Ijeoma Oluo \nPlease email Kat Kramarchyk at GRAWABooksNBottles@gmail.com for the Zoom information and to receive an update on the drink of the month!
URL:https://www.wbasny.org/event/books-and-bottles-club-so-you-want-to-talk-about-race/
END:VEVENT
END:VCALENDAR