BEGIN:VCALENDAR
VERSION:2.0
PRODID:-//wbasny - ECPv6.15.20//NONSGML v1.0//EN
CALSCALE:GREGORIAN
METHOD:PUBLISH
X-WR-CALNAME:wbasny
X-ORIGINAL-URL:https://www.wbasny.org
X-WR-CALDESC:Events for wbasny
REFRESH-INTERVAL;VALUE=DURATION:PT1H
X-Robots-Tag:noindex
X-PUBLISHED-TTL:PT1H
BEGIN:VTIMEZONE
TZID:America/New_York
BEGIN:DAYLIGHT
TZOFFSETFROM:-0500
TZOFFSETTO:-0400
TZNAME:EDT
DTSTART:20200308T070000
END:DAYLIGHT
BEGIN:STANDARD
TZOFFSETFROM:-0400
TZOFFSETTO:-0500
TZNAME:EST
DTSTART:20201101T060000
END:STANDARD
BEGIN:DAYLIGHT
TZOFFSETFROM:-0500
TZOFFSETTO:-0400
TZNAME:EDT
DTSTART:20210314T070000
END:DAYLIGHT
BEGIN:STANDARD
TZOFFSETFROM:-0400
TZOFFSETTO:-0500
TZNAME:EST
DTSTART:20211107T060000
END:STANDARD
BEGIN:DAYLIGHT
TZOFFSETFROM:-0500
TZOFFSETTO:-0400
TZNAME:EDT
DTSTART:20220313T070000
END:DAYLIGHT
BEGIN:STANDARD
TZOFFSETFROM:-0400
TZOFFSETTO:-0500
TZNAME:EST
DTSTART:20221106T060000
END:STANDARD
END:VTIMEZONE
BEGIN:VEVENT
DTSTART;TZID=America/New_York:20210928T130000
DTEND;TZID=America/New_York:20210928T140000
DTSTAMP:20260421T214050
CREATED:20210805T160730Z
LAST-MODIFIED:20210805T164133Z
UID:56747-1632834000-1632837600@www.wbasny.org
SUMMARY:NYWBA Civil Courts Committee invites you to Zoom with a JudgeFeaturing: Hon. Phaedra F. Perry
DESCRIPTION:New York Chapter \n\n\n\nZoom with a Judge Series\n\n\n\nThe NYWBA Civil Courts Committee invites you to\nZoom with a JudgeFeaturing:\nHon. Phaedra F. Perry\nNY Civil CourtDiscussion Facilitator:\nCrystal R. Villasenor\,\nNYWBA Director & Committee Co-Chair \nSeptember 28\, 2021\, 1:00 p.m.\, via Zoom\nClick here for more info
URL:https://www.wbasny.org/event/56747/
END:VEVENT
END:VCALENDAR