BEGIN:VCALENDAR
VERSION:2.0
PRODID:-//wbasny - ECPv6.15.20//NONSGML v1.0//EN
CALSCALE:GREGORIAN
METHOD:PUBLISH
X-WR-CALNAME:wbasny
X-ORIGINAL-URL:https://www.wbasny.org
X-WR-CALDESC:Events for wbasny
REFRESH-INTERVAL;VALUE=DURATION:PT1H
X-Robots-Tag:noindex
X-PUBLISHED-TTL:PT1H
BEGIN:VTIMEZONE
TZID:America/New_York
BEGIN:DAYLIGHT
TZOFFSETFROM:-0500
TZOFFSETTO:-0400
TZNAME:EDT
DTSTART:20200308T070000
END:DAYLIGHT
BEGIN:STANDARD
TZOFFSETFROM:-0400
TZOFFSETTO:-0500
TZNAME:EST
DTSTART:20201101T060000
END:STANDARD
BEGIN:DAYLIGHT
TZOFFSETFROM:-0500
TZOFFSETTO:-0400
TZNAME:EDT
DTSTART:20210314T070000
END:DAYLIGHT
BEGIN:STANDARD
TZOFFSETFROM:-0400
TZOFFSETTO:-0500
TZNAME:EST
DTSTART:20211107T060000
END:STANDARD
BEGIN:DAYLIGHT
TZOFFSETFROM:-0500
TZOFFSETTO:-0400
TZNAME:EDT
DTSTART:20220313T070000
END:DAYLIGHT
BEGIN:STANDARD
TZOFFSETFROM:-0400
TZOFFSETTO:-0500
TZNAME:EST
DTSTART:20221106T060000
END:STANDARD
END:VTIMEZONE
BEGIN:VEVENT
DTSTART;TZID=America/New_York:20210930T180000
DTEND;TZID=America/New_York:20210930T200000
DTSTAMP:20260421T214049
CREATED:20210728T155521Z
LAST-MODIFIED:20210728T155521Z
UID:56617-1633024800-1633032000@www.wbasny.org
SUMMARY:WWBA Book Club
DESCRIPTION:Westchester Chapter \n\n\n\n\n\n\n\nWWBA Virtual Book Club \n\n\n\n\nBook:\n“American Disruptor: The Scandalous Life of Leland Stanford”\nby Roland De Wolk\n\n\n\nWhen: \nThursday\, September 30th\, 6:00 PM \n\n\nWhere:\nIn person or online:\nJane Gould’s house\, 7 Little John Place\, White Plains\nEmail Lisa Denig to RSVP or for the Zoom link at lisadenig@yahoo.com \nPlease bring a beverage or appetizer to share.
URL:https://www.wbasny.org/event/wwba-book-club/
ORGANIZER;CN="Westchester Women's Bar Association":MAILTO:executivedirector@wwbany.org
END:VEVENT
BEGIN:VEVENT
DTSTART;TZID=America/New_York:20210930T183000
DTEND;TZID=America/New_York:20210930T193000
DTSTAMP:20260421T214049
CREATED:20210907T155555Z
LAST-MODIFIED:20210907T155555Z
UID:57054-1633026600-1633030200@www.wbasny.org
SUMMARY:CLE-Hispanic Heritage Month
DESCRIPTION:Queens Chapter \nQueens CLE 093021
URL:https://www.wbasny.org/event/cle-hispanic-heritage-month/
END:VEVENT
END:VCALENDAR