BEGIN:VCALENDAR
VERSION:2.0
PRODID:-//wbasny - ECPv6.15.20//NONSGML v1.0//EN
CALSCALE:GREGORIAN
METHOD:PUBLISH
X-WR-CALNAME:wbasny
X-ORIGINAL-URL:https://www.wbasny.org
X-WR-CALDESC:Events for wbasny
REFRESH-INTERVAL;VALUE=DURATION:PT1H
X-Robots-Tag:noindex
X-PUBLISHED-TTL:PT1H
BEGIN:VTIMEZONE
TZID:America/New_York
BEGIN:DAYLIGHT
TZOFFSETFROM:-0500
TZOFFSETTO:-0400
TZNAME:EDT
DTSTART:20200308T070000
END:DAYLIGHT
BEGIN:STANDARD
TZOFFSETFROM:-0400
TZOFFSETTO:-0500
TZNAME:EST
DTSTART:20201101T060000
END:STANDARD
BEGIN:DAYLIGHT
TZOFFSETFROM:-0500
TZOFFSETTO:-0400
TZNAME:EDT
DTSTART:20210314T070000
END:DAYLIGHT
BEGIN:STANDARD
TZOFFSETFROM:-0400
TZOFFSETTO:-0500
TZNAME:EST
DTSTART:20211107T060000
END:STANDARD
BEGIN:DAYLIGHT
TZOFFSETFROM:-0500
TZOFFSETTO:-0400
TZNAME:EDT
DTSTART:20220313T070000
END:DAYLIGHT
BEGIN:STANDARD
TZOFFSETFROM:-0400
TZOFFSETTO:-0500
TZNAME:EST
DTSTART:20221106T060000
END:STANDARD
END:VTIMEZONE
BEGIN:VEVENT
DTSTART;TZID=America/New_York:20211002T093000
DTEND;TZID=America/New_York:20211002T120000
DTSTAMP:20260421T214048
CREATED:20210831T151617Z
LAST-MODIFIED:20210831T151617Z
UID:56944-1633167000-1633176000@www.wbasny.org
SUMMARY:Interactive & Engaging Seminar Featuring Historian Sally Roesch Wagner
DESCRIPTION:Western New York Chapter \nInteractive & Engaging Seminar Featuring Historian Sally Roesch Wagner
URL:https://www.wbasny.org/event/interactive-engaging-seminar-featuring-historian-sally-roesch-wagner/
ORGANIZER;CN="Western New York Women's Bar Association":MAILTO:wbasnywny@gmail.com
END:VEVENT
BEGIN:VEVENT
DTSTART;TZID=America/New_York:20211002T103000
DTEND;TZID=America/New_York:20211002T163000
DTSTAMP:20260421T214048
CREATED:20210916T165318Z
LAST-MODIFIED:20210916T165318Z
UID:57146-1633170600-1633192200@www.wbasny.org
SUMMARY:CLE The Three Tier System: Alcohol Regulation from Prohibition to Modern Constitutional
DESCRIPTION:Orange & Sullivan Chapter \nAlcohol Regulation from Prohibition to Modern Constitutional
URL:https://www.wbasny.org/event/cle-the-three-tier-system-alcohol-regulation-from-prohibition-to-modern-constitutional/
END:VEVENT
BEGIN:VEVENT
DTSTART;TZID=America/New_York:20211002T110000
DTEND;TZID=America/New_York:20211002T130000
DTSTAMP:20260421T214048
CREATED:20211001T171228Z
LAST-MODIFIED:20211001T171228Z
UID:57291-1633172400-1633179600@www.wbasny.org
SUMMARY:How to Excel in Law School
DESCRIPTION:Queens Chapter \nHow to excel in Law School
URL:https://www.wbasny.org/event/how-to-excel-in-law-school/
END:VEVENT
END:VCALENDAR