BEGIN:VCALENDAR
VERSION:2.0
PRODID:-//wbasny - ECPv6.15.20//NONSGML v1.0//EN
CALSCALE:GREGORIAN
METHOD:PUBLISH
X-ORIGINAL-URL:https://www.wbasny.org
X-WR-CALDESC:Events for wbasny
REFRESH-INTERVAL;VALUE=DURATION:PT1H
X-Robots-Tag:noindex
X-PUBLISHED-TTL:PT1H
BEGIN:VTIMEZONE
TZID:America/New_York
BEGIN:DAYLIGHT
TZOFFSETFROM:-0500
TZOFFSETTO:-0400
TZNAME:EDT
DTSTART:20200308T070000
END:DAYLIGHT
BEGIN:STANDARD
TZOFFSETFROM:-0400
TZOFFSETTO:-0500
TZNAME:EST
DTSTART:20201101T060000
END:STANDARD
BEGIN:DAYLIGHT
TZOFFSETFROM:-0500
TZOFFSETTO:-0400
TZNAME:EDT
DTSTART:20210314T070000
END:DAYLIGHT
BEGIN:STANDARD
TZOFFSETFROM:-0400
TZOFFSETTO:-0500
TZNAME:EST
DTSTART:20211107T060000
END:STANDARD
BEGIN:DAYLIGHT
TZOFFSETFROM:-0500
TZOFFSETTO:-0400
TZNAME:EDT
DTSTART:20220313T070000
END:DAYLIGHT
BEGIN:STANDARD
TZOFFSETFROM:-0400
TZOFFSETTO:-0500
TZNAME:EST
DTSTART:20221106T060000
END:STANDARD
END:VTIMEZONE
BEGIN:VEVENT
DTSTART;TZID=America/New_York:20211109T180000
DTEND;TZID=America/New_York:20211109T200000
DTSTAMP:20260421T184133
CREATED:20211014T161309Z
LAST-MODIFIED:20211014T161309Z
UID:57418-1636480800-1636488000@www.wbasny.org
SUMMARY:Understanding Divorce from a Different Perspective:
DESCRIPTION:New York Chapter \nUnderstanding Divorce from a Different Perspective
URL:https://www.wbasny.org/event/understanding-divorce-from-a-different-perspective/
END:VEVENT
BEGIN:VEVENT
DTSTART;TZID=America/New_York:20211109T180000
DTEND;TZID=America/New_York:20211109T200000
DTSTAMP:20260421T184133
CREATED:20211025T150937Z
LAST-MODIFIED:20211025T182724Z
UID:57503-1636480800-1636488000@www.wbasny.org
SUMMARY:The Franklin H Williams Judicial Commission Diversity Awards Night
DESCRIPTION:Queens Chapter \n \nThe Franklin H Williams Judicial Commission Diversity Awards Night
URL:https://www.wbasny.org/event/the-franklin-h-williams-judicial-commission-diversity-awards-night/
END:VEVENT
END:VCALENDAR