BEGIN:VCALENDAR
VERSION:2.0
PRODID:-//wbasny - ECPv6.15.20//NONSGML v1.0//EN
CALSCALE:GREGORIAN
METHOD:PUBLISH
X-WR-CALNAME:wbasny
X-ORIGINAL-URL:https://www.wbasny.org
X-WR-CALDESC:Events for wbasny
REFRESH-INTERVAL;VALUE=DURATION:PT1H
X-Robots-Tag:noindex
X-PUBLISHED-TTL:PT1H
BEGIN:VTIMEZONE
TZID:America/New_York
BEGIN:DAYLIGHT
TZOFFSETFROM:-0500
TZOFFSETTO:-0400
TZNAME:EDT
DTSTART:20200308T070000
END:DAYLIGHT
BEGIN:STANDARD
TZOFFSETFROM:-0400
TZOFFSETTO:-0500
TZNAME:EST
DTSTART:20201101T060000
END:STANDARD
BEGIN:DAYLIGHT
TZOFFSETFROM:-0500
TZOFFSETTO:-0400
TZNAME:EDT
DTSTART:20210314T070000
END:DAYLIGHT
BEGIN:STANDARD
TZOFFSETFROM:-0400
TZOFFSETTO:-0500
TZNAME:EST
DTSTART:20211107T060000
END:STANDARD
BEGIN:DAYLIGHT
TZOFFSETFROM:-0500
TZOFFSETTO:-0400
TZNAME:EDT
DTSTART:20220313T070000
END:DAYLIGHT
BEGIN:STANDARD
TZOFFSETFROM:-0400
TZOFFSETTO:-0500
TZNAME:EST
DTSTART:20221106T060000
END:STANDARD
END:VTIMEZONE
BEGIN:VEVENT
DTSTART;TZID=America/New_York:20211206T120000
DTEND;TZID=America/New_York:20211206T130000
DTSTAMP:20260421T165716
CREATED:20211108T192508Z
LAST-MODIFIED:20211108T192508Z
UID:57712-1638792000-1638795600@www.wbasny.org
SUMMARY:Meet and Chat with Honorable Richard C. Kloch\, Sr.
DESCRIPTION:Western New York Chapter \n \nMeet & Chat with Honorable Richard C. Kloch\, Sr.
URL:https://www.wbasny.org/event/meet-and-chat-with-honorable-richard-c-kloch-sr/
ORGANIZER;CN="Western New York Women's Bar Association":MAILTO:wbasnywny@gmail.com
END:VEVENT
BEGIN:VEVENT
DTSTART;TZID=America/New_York:20211206T130000
DTEND;TZID=America/New_York:20211206T143000
DTSTAMP:20260421T165716
CREATED:20211122T204110Z
LAST-MODIFIED:20211122T204110Z
UID:58060-1638795600-1638801000@www.wbasny.org
SUMMARY:Introduction to the Kings and Richmond Counties' Guardianship Benches
DESCRIPTION:New York Chapter \n \nIntroduction to the Kings and Richmond Counties’ Guardianship Benches
URL:https://www.wbasny.org/event/introduction-to-the-kings-and-richmond-counties-guardianship-benches/
END:VEVENT
END:VCALENDAR