BEGIN:VCALENDAR
VERSION:2.0
PRODID:-//wbasny - ECPv6.15.20//NONSGML v1.0//EN
CALSCALE:GREGORIAN
METHOD:PUBLISH
X-ORIGINAL-URL:https://www.wbasny.org
X-WR-CALDESC:Events for wbasny
REFRESH-INTERVAL;VALUE=DURATION:PT1H
X-Robots-Tag:noindex
X-PUBLISHED-TTL:PT1H
BEGIN:VTIMEZONE
TZID:America/New_York
BEGIN:DAYLIGHT
TZOFFSETFROM:-0500
TZOFFSETTO:-0400
TZNAME:EDT
DTSTART:20200308T070000
END:DAYLIGHT
BEGIN:STANDARD
TZOFFSETFROM:-0400
TZOFFSETTO:-0500
TZNAME:EST
DTSTART:20201101T060000
END:STANDARD
BEGIN:DAYLIGHT
TZOFFSETFROM:-0500
TZOFFSETTO:-0400
TZNAME:EDT
DTSTART:20210314T070000
END:DAYLIGHT
BEGIN:STANDARD
TZOFFSETFROM:-0400
TZOFFSETTO:-0500
TZNAME:EST
DTSTART:20211107T060000
END:STANDARD
BEGIN:DAYLIGHT
TZOFFSETFROM:-0500
TZOFFSETTO:-0400
TZNAME:EDT
DTSTART:20220313T070000
END:DAYLIGHT
BEGIN:STANDARD
TZOFFSETFROM:-0400
TZOFFSETTO:-0500
TZNAME:EST
DTSTART:20221106T060000
END:STANDARD
END:VTIMEZONE
BEGIN:VEVENT
DTSTART;TZID=America/New_York:20211209T120000
DTEND;TZID=America/New_York:20211209T133000
DTSTAMP:20260421T165846
CREATED:20211129T222327Z
LAST-MODIFIED:20211129T222327Z
UID:58259-1639051200-1639056600@www.wbasny.org
SUMMARY:Lunch with Honorable Danielle Jose-Decker
DESCRIPTION:Orange and Sullivan Chapter \n \nLunch with Honorable Danielle Jose-Decker
URL:https://www.wbasny.org/event/lunch-with-honorable-danielle-jose-decker/
END:VEVENT
BEGIN:VEVENT
DTSTART;TZID=America/New_York:20211209T130000
DTEND;TZID=America/New_York:20211209T140000
DTSTAMP:20260421T165846
CREATED:20211103T180258Z
LAST-MODIFIED:20211103T180258Z
UID:57657-1639054800-1639058400@www.wbasny.org
SUMMARY:Lunch with Honorable Larry D. Martin
DESCRIPTION:Brooklyn Chapter \n \nLunch with Honorable Larry D. Martin
URL:https://www.wbasny.org/event/lunch-with-honorable-larry-d-martin/
END:VEVENT
BEGIN:VEVENT
DTSTART;TZID=America/New_York:20211209T170000
DTEND;TZID=America/New_York:20211209T200000
DTSTAMP:20260421T165846
CREATED:20211115T214143Z
LAST-MODIFIED:20211115T214143Z
UID:57839-1639069200-1639080000@www.wbasny.org
SUMMARY:Annual Holiday Party and Wishing Tree
DESCRIPTION:Western New York Chapter \n \nAnnual Holiday Party and Wishing Tree
URL:https://www.wbasny.org/event/annual-holiday-party-and-wishing-tree/
ORGANIZER;CN="Western New York Women's Bar Association":MAILTO:wbasnywny@gmail.com
END:VEVENT
BEGIN:VEVENT
DTSTART;TZID=America/New_York:20211209T180000
DTEND;TZID=America/New_York:20211209T190000
DTSTAMP:20260421T165846
CREATED:20211115T192405Z
LAST-MODIFIED:20211208T152117Z
UID:57823-1639072800-1639076400@www.wbasny.org
SUMMARY:Pathways to Success: How to Advance Your Career
DESCRIPTION:New York Chapter \n \nPathways to Success- How to Advance Your Career
URL:https://www.wbasny.org/event/pathways-to-success-how-to-advance-your-career/
END:VEVENT
BEGIN:VEVENT
DTSTART;TZID=America/New_York:20211209T180000
DTEND;TZID=America/New_York:20211209T210000
DTSTAMP:20260421T165846
CREATED:20210615T194709Z
LAST-MODIFIED:20210615T194709Z
UID:55813-1639072800-1639083600@www.wbasny.org
SUMMARY:Officers Zoom Meeting
DESCRIPTION:WBASNY \n 
URL:https://www.wbasny.org/event/officers-zoom-meeting-3/
ORGANIZER;CN="WBASNY":MAILTO:events@wbasny.org
END:VEVENT
END:VCALENDAR