BEGIN:VCALENDAR
VERSION:2.0
PRODID:-//wbasny - ECPv6.15.20//NONSGML v1.0//EN
CALSCALE:GREGORIAN
METHOD:PUBLISH
X-WR-CALNAME:wbasny
X-ORIGINAL-URL:https://www.wbasny.org
X-WR-CALDESC:Events for wbasny
REFRESH-INTERVAL;VALUE=DURATION:PT1H
X-Robots-Tag:noindex
X-PUBLISHED-TTL:PT1H
BEGIN:VTIMEZONE
TZID:America/New_York
BEGIN:DAYLIGHT
TZOFFSETFROM:-0500
TZOFFSETTO:-0400
TZNAME:EDT
DTSTART:20210314T070000
END:DAYLIGHT
BEGIN:STANDARD
TZOFFSETFROM:-0400
TZOFFSETTO:-0500
TZNAME:EST
DTSTART:20211107T060000
END:STANDARD
BEGIN:DAYLIGHT
TZOFFSETFROM:-0500
TZOFFSETTO:-0400
TZNAME:EDT
DTSTART:20220313T070000
END:DAYLIGHT
BEGIN:STANDARD
TZOFFSETFROM:-0400
TZOFFSETTO:-0500
TZNAME:EST
DTSTART:20221106T060000
END:STANDARD
BEGIN:DAYLIGHT
TZOFFSETFROM:-0500
TZOFFSETTO:-0400
TZNAME:EDT
DTSTART:20230312T070000
END:DAYLIGHT
BEGIN:STANDARD
TZOFFSETFROM:-0400
TZOFFSETTO:-0500
TZNAME:EST
DTSTART:20231105T060000
END:STANDARD
END:VTIMEZONE
BEGIN:VEVENT
DTSTART;TZID=America/New_York:20220113T123000
DTEND;TZID=America/New_York:20220113T140000
DTSTAMP:20260421T164600
CREATED:20211115T215118Z
LAST-MODIFIED:20211115T215118Z
UID:57843-1642077000-1642082400@www.wbasny.org
SUMMARY:Transition-Aged Youth in Foster Care
DESCRIPTION:Western New York Chapter \n \nTransition-Aged Youth in Foster Care \n 
URL:https://www.wbasny.org/event/transition-aged-youth-in-foster-care/
ORGANIZER;CN="Western New York Women's Bar Association":MAILTO:wbasnywny@gmail.com
END:VEVENT
BEGIN:VEVENT
DTSTART;TZID=America/New_York:20220113T130000
DTEND;TZID=America/New_York:20220113T140000
DTSTAMP:20260421T164600
CREATED:20211221T151200Z
LAST-MODIFIED:20211221T151200Z
UID:58493-1642078800-1642082400@www.wbasny.org
SUMMARY:Lunch with Honorable Donald Leo
DESCRIPTION:Brooklyn Chapter \n \nLunch with Honorable Donald Leo
URL:https://www.wbasny.org/event/lunch-with-honorable-donald-leo/
END:VEVENT
BEGIN:VEVENT
DTSTART;TZID=America/New_York:20220113T130000
DTEND;TZID=America/New_York:20220113T170000
DTSTAMP:20260421T164600
CREATED:20220110T163334Z
LAST-MODIFIED:20220110T163443Z
UID:58676-1642078800-1642093200@www.wbasny.org
SUMMARY:Lunchtime Open Mic- Supportive Decision-Making in Guardianship
DESCRIPTION:Lunchtime Open Mic- Supportive Decision-Making in Guardianship
URL:https://www.wbasny.org/event/lunchtime-open-mic-supportive-decision-making-in-guardianship/
END:VEVENT
BEGIN:VEVENT
DTSTART;TZID=America/New_York:20220113T170000
DTEND;TZID=America/New_York:20220113T200000
DTSTAMP:20260421T164600
CREATED:20210615T194808Z
LAST-MODIFIED:20210615T194808Z
UID:55815-1642093200-1642104000@www.wbasny.org
SUMMARY:Officers Meeting
DESCRIPTION:
URL:https://www.wbasny.org/event/officers-meeting-11/
LOCATION:TBD
ORGANIZER;CN="WBASNY":MAILTO:events@wbasny.org
END:VEVENT
END:VCALENDAR