BEGIN:VCALENDAR
VERSION:2.0
PRODID:-//wbasny - ECPv6.15.20//NONSGML v1.0//EN
CALSCALE:GREGORIAN
METHOD:PUBLISH
X-WR-CALNAME:wbasny
X-ORIGINAL-URL:https://www.wbasny.org
X-WR-CALDESC:Events for wbasny
REFRESH-INTERVAL;VALUE=DURATION:PT1H
X-Robots-Tag:noindex
X-PUBLISHED-TTL:PT1H
BEGIN:VTIMEZONE
TZID:America/New_York
BEGIN:DAYLIGHT
TZOFFSETFROM:-0500
TZOFFSETTO:-0400
TZNAME:EDT
DTSTART:20210314T070000
END:DAYLIGHT
BEGIN:STANDARD
TZOFFSETFROM:-0400
TZOFFSETTO:-0500
TZNAME:EST
DTSTART:20211107T060000
END:STANDARD
BEGIN:DAYLIGHT
TZOFFSETFROM:-0500
TZOFFSETTO:-0400
TZNAME:EDT
DTSTART:20220313T070000
END:DAYLIGHT
BEGIN:STANDARD
TZOFFSETFROM:-0400
TZOFFSETTO:-0500
TZNAME:EST
DTSTART:20221106T060000
END:STANDARD
BEGIN:DAYLIGHT
TZOFFSETFROM:-0500
TZOFFSETTO:-0400
TZNAME:EDT
DTSTART:20230312T070000
END:DAYLIGHT
BEGIN:STANDARD
TZOFFSETFROM:-0400
TZOFFSETTO:-0500
TZNAME:EST
DTSTART:20231105T060000
END:STANDARD
END:VTIMEZONE
BEGIN:VEVENT
DTSTART;TZID=America/New_York:20220130T100000
DTEND;TZID=America/New_York:20220201T110000
DTSTAMP:20260421T134253
CREATED:20220125T203443Z
LAST-MODIFIED:20220128T182259Z
UID:58937-1643536800-1643713200@www.wbasny.org
SUMMARY:A Two-Part Human Trafficking Awareness Event Featuring Blowin' Up
DESCRIPTION:Brooklyn Chapter \n \n \n 
URL:https://www.wbasny.org/event/a-two-part-human-trafficking-awareness-event-featuring-blowin-up/
END:VEVENT
BEGIN:VEVENT
DTSTART;TZID=America/New_York:20220131T130000
DTEND;TZID=America/New_York:20220131T140000
DTSTAMP:20260421T134253
CREATED:20220119T155758Z
LAST-MODIFIED:20220119T155758Z
UID:58837-1643634000-1643637600@www.wbasny.org
SUMMARY:Mentoring Works
DESCRIPTION:Queens Chapter \n \nMentoring Works
URL:https://www.wbasny.org/event/mentoring-works/
END:VEVENT
BEGIN:VEVENT
DTSTART;TZID=America/New_York:20220131T180000
DTEND;TZID=America/New_York:20220131T190000
DTSTAMP:20260421T134253
CREATED:20220110T160011Z
LAST-MODIFIED:20220128T182813Z
UID:58657-1643652000-1643655600@www.wbasny.org
SUMMARY:Annual Judiciary Night
DESCRIPTION:Brooklyn Chapter \n \n  \n \n\n\n\nRSVP HERE
URL:https://www.wbasny.org/event/annual-judiciary-night/
END:VEVENT
END:VCALENDAR