BEGIN:VCALENDAR
VERSION:2.0
PRODID:-//wbasny - ECPv6.15.20//NONSGML v1.0//EN
CALSCALE:GREGORIAN
METHOD:PUBLISH
X-WR-CALNAME:wbasny
X-ORIGINAL-URL:https://www.wbasny.org
X-WR-CALDESC:Events for wbasny
REFRESH-INTERVAL;VALUE=DURATION:PT1H
X-Robots-Tag:noindex
X-PUBLISHED-TTL:PT1H
BEGIN:VTIMEZONE
TZID:America/New_York
BEGIN:DAYLIGHT
TZOFFSETFROM:-0500
TZOFFSETTO:-0400
TZNAME:EDT
DTSTART:20210314T070000
END:DAYLIGHT
BEGIN:STANDARD
TZOFFSETFROM:-0400
TZOFFSETTO:-0500
TZNAME:EST
DTSTART:20211107T060000
END:STANDARD
BEGIN:DAYLIGHT
TZOFFSETFROM:-0500
TZOFFSETTO:-0400
TZNAME:EDT
DTSTART:20220313T070000
END:DAYLIGHT
BEGIN:STANDARD
TZOFFSETFROM:-0400
TZOFFSETTO:-0500
TZNAME:EST
DTSTART:20221106T060000
END:STANDARD
BEGIN:DAYLIGHT
TZOFFSETFROM:-0500
TZOFFSETTO:-0400
TZNAME:EDT
DTSTART:20230312T070000
END:DAYLIGHT
BEGIN:STANDARD
TZOFFSETFROM:-0400
TZOFFSETTO:-0500
TZNAME:EST
DTSTART:20231105T060000
END:STANDARD
END:VTIMEZONE
BEGIN:VEVENT
DTSTART;TZID=America/New_York:20220208T130000
DTEND;TZID=America/New_York:20220208T140000
DTSTAMP:20260421T120504
CREATED:20220203T211016Z
LAST-MODIFIED:20220203T220217Z
UID:59202-1644325200-1644328800@www.wbasny.org
SUMMARY:Virtual Chamber Chat with Honorable Linda K. Mejias-Glover
DESCRIPTION:Join Us for a Virtual Chamber Chat with Hon. Linda K. Mejias-Glover \nWhen \nTuesday\, February 8\, 2022 from 1:00 PM to 1:45 PM EST \nAdd to Calendar \n  \nRegister Now!
URL:https://www.wbasny.org/event/join-us-for-a-virtual-chamber-chat-with-honorable-linda-k-mejias-glover/
END:VEVENT
BEGIN:VEVENT
DTSTART;TZID=America/New_York:20220208T180000
DTEND;TZID=America/New_York:20220208T190000
DTSTAMP:20260421T120504
CREATED:20220207T160201Z
LAST-MODIFIED:20220207T160201Z
UID:59245-1644343200-1644346800@www.wbasny.org
SUMMARY:Diversity\, Equity\, and Inclusion Committee Meeting
DESCRIPTION:Feb 8\, 6:00 p.m. – Diversity\, Equity\, and Inclusion Committee meeting by Zoom.  RSVP DiversityChairs@nywba.org.
URL:https://www.wbasny.org/event/diversity-equity-and-inclusion-committee-meeting/
END:VEVENT
END:VCALENDAR