BEGIN:VCALENDAR
VERSION:2.0
PRODID:-//wbasny - ECPv6.15.20//NONSGML v1.0//EN
CALSCALE:GREGORIAN
METHOD:PUBLISH
X-WR-CALNAME:wbasny
X-ORIGINAL-URL:https://www.wbasny.org
X-WR-CALDESC:Events for wbasny
REFRESH-INTERVAL;VALUE=DURATION:PT1H
X-Robots-Tag:noindex
X-PUBLISHED-TTL:PT1H
BEGIN:VTIMEZONE
TZID:America/New_York
BEGIN:DAYLIGHT
TZOFFSETFROM:-0500
TZOFFSETTO:-0400
TZNAME:EDT
DTSTART:20210314T070000
END:DAYLIGHT
BEGIN:STANDARD
TZOFFSETFROM:-0400
TZOFFSETTO:-0500
TZNAME:EST
DTSTART:20211107T060000
END:STANDARD
BEGIN:DAYLIGHT
TZOFFSETFROM:-0500
TZOFFSETTO:-0400
TZNAME:EDT
DTSTART:20220313T070000
END:DAYLIGHT
BEGIN:STANDARD
TZOFFSETFROM:-0400
TZOFFSETTO:-0500
TZNAME:EST
DTSTART:20221106T060000
END:STANDARD
BEGIN:DAYLIGHT
TZOFFSETFROM:-0500
TZOFFSETTO:-0400
TZNAME:EDT
DTSTART:20230312T070000
END:DAYLIGHT
BEGIN:STANDARD
TZOFFSETFROM:-0400
TZOFFSETTO:-0500
TZNAME:EST
DTSTART:20231105T060000
END:STANDARD
END:VTIMEZONE
BEGIN:VEVENT
DTSTART;TZID=America/New_York:20220307T180000
DTEND;TZID=America/New_York:20220307T190000
DTSTAMP:20260421T154524
CREATED:20220222T204556Z
LAST-MODIFIED:20220222T204556Z
UID:59533-1646676000-1646679600@www.wbasny.org
SUMMARY:Financial Planning for Divorce: What Your Clients Need to Know Before\, During and After Divorce
DESCRIPTION:NYWBA’s Matrimonial and Family Law Committee \npresents: \n\nFinancial Planning for Divorce: What Your Clients\nNeed to Know Before\, During and After Divorce \nBudgeting and financial planning are essential for clients going through a divorce\, and yet many clients do not have a complete understanding of their financial picture before\, during or after divorce.  In this program\, Amy Brackett\, a Certified Divorce Financial Analyst (CDFA) and The Honorable Rosalyn Richter (retired)\, will discuss how financial planning can help in divorce proceedings\, whether the case is settled or ultimately tried. This program will be of use to experienced matrimonial lawyers\, as well as those who are new to the field. \nSpeakers: Amy Bracket\, CDFA and Hon. Rosalyn Richter (ret.) \nModerator: Nina S. Gross\, Esq. \n\nMarch 7\, 2022\, 6:00 p.m.\, via Zoom\nClick here for more info and to RSVP.
URL:https://www.wbasny.org/event/financial-planning-for-divorce-what-your-clients-need-to-know-before-during-and-after-divorce/
END:VEVENT
END:VCALENDAR