BEGIN:VCALENDAR
VERSION:2.0
PRODID:-//wbasny - ECPv6.15.20//NONSGML v1.0//EN
CALSCALE:GREGORIAN
METHOD:PUBLISH
X-ORIGINAL-URL:https://www.wbasny.org
X-WR-CALDESC:Events for wbasny
REFRESH-INTERVAL;VALUE=DURATION:PT1H
X-Robots-Tag:noindex
X-PUBLISHED-TTL:PT1H
BEGIN:VTIMEZONE
TZID:America/New_York
BEGIN:DAYLIGHT
TZOFFSETFROM:-0500
TZOFFSETTO:-0400
TZNAME:EDT
DTSTART:20210314T070000
END:DAYLIGHT
BEGIN:STANDARD
TZOFFSETFROM:-0400
TZOFFSETTO:-0500
TZNAME:EST
DTSTART:20211107T060000
END:STANDARD
BEGIN:DAYLIGHT
TZOFFSETFROM:-0500
TZOFFSETTO:-0400
TZNAME:EDT
DTSTART:20220313T070000
END:DAYLIGHT
BEGIN:STANDARD
TZOFFSETFROM:-0400
TZOFFSETTO:-0500
TZNAME:EST
DTSTART:20221106T060000
END:STANDARD
BEGIN:DAYLIGHT
TZOFFSETFROM:-0500
TZOFFSETTO:-0400
TZNAME:EDT
DTSTART:20230312T070000
END:DAYLIGHT
BEGIN:STANDARD
TZOFFSETFROM:-0400
TZOFFSETTO:-0500
TZNAME:EST
DTSTART:20231105T060000
END:STANDARD
END:VTIMEZONE
BEGIN:VEVENT
DTSTART;TZID=America/New_York:20220322T130000
DTEND;TZID=America/New_York:20220322T140000
DTSTAMP:20260421T102036
CREATED:20220302T205113Z
LAST-MODIFIED:20220302T205113Z
UID:59671-1647954000-1647957600@www.wbasny.org
SUMMARY:Chamber Chat with Honorable Anne-Marie Jolly
DESCRIPTION:Queens Chapter
URL:https://www.wbasny.org/event/chamber-chat-with-honorable-anne-marie-jolly/
END:VEVENT
BEGIN:VEVENT
DTSTART;TZID=America/New_York:20220322T180000
DTEND;TZID=America/New_York:20220322T190000
DTSTAMP:20260421T102036
CREATED:20220301T171017Z
LAST-MODIFIED:20220301T171047Z
UID:59645-1647972000-1647975600@www.wbasny.org
SUMMARY:"Equity in Action" Speaker Series
DESCRIPTION:New York Chapter
URL:https://www.wbasny.org/event/equity-in-action/
END:VEVENT
END:VCALENDAR