BEGIN:VCALENDAR
VERSION:2.0
PRODID:-//wbasny - ECPv6.15.20//NONSGML v1.0//EN
CALSCALE:GREGORIAN
METHOD:PUBLISH
X-ORIGINAL-URL:https://www.wbasny.org
X-WR-CALDESC:Events for wbasny
REFRESH-INTERVAL;VALUE=DURATION:PT1H
X-Robots-Tag:noindex
X-PUBLISHED-TTL:PT1H
BEGIN:VTIMEZONE
TZID:America/New_York
BEGIN:DAYLIGHT
TZOFFSETFROM:-0500
TZOFFSETTO:-0400
TZNAME:EDT
DTSTART:20210314T070000
END:DAYLIGHT
BEGIN:STANDARD
TZOFFSETFROM:-0400
TZOFFSETTO:-0500
TZNAME:EST
DTSTART:20211107T060000
END:STANDARD
BEGIN:DAYLIGHT
TZOFFSETFROM:-0500
TZOFFSETTO:-0400
TZNAME:EDT
DTSTART:20220313T070000
END:DAYLIGHT
BEGIN:STANDARD
TZOFFSETFROM:-0400
TZOFFSETTO:-0500
TZNAME:EST
DTSTART:20221106T060000
END:STANDARD
BEGIN:DAYLIGHT
TZOFFSETFROM:-0500
TZOFFSETTO:-0400
TZNAME:EDT
DTSTART:20230312T070000
END:DAYLIGHT
BEGIN:STANDARD
TZOFFSETFROM:-0400
TZOFFSETTO:-0500
TZNAME:EST
DTSTART:20231105T060000
END:STANDARD
END:VTIMEZONE
BEGIN:VEVENT
DTSTART;TZID=America/New_York:20220325T120000
DTEND;TZID=America/New_York:20220325T130000
DTSTAMP:20260421T103248
CREATED:20220318T141506Z
LAST-MODIFIED:20220318T141506Z
UID:60205-1648209600-1648213200@www.wbasny.org
SUMMARY:FLWBA March Chapter Meeting
DESCRIPTION:Greetings SCWBA Members\, \n  \nThe FLWBA has an exciting program for members on Friday\, March 25 at noon! March 24 will mark the 15th anniversary of the founding of FLWBA chapter. The following day\, we are so fortunate to have three of their founding members join us for a virtual discussion about the founding of FLWBA\, and why women’s bar associations are vital today. We will welcome Dierdre Hay\, Elizabeth Peck\, and Kimberly Rothman to talk with our members– please join us! \n  \nYou are invited to a Zoom meeting \n  \nWhen: Mar 25\, 2022 at 12:00 PM Eastern Time (US and Canada) \n  \n  \nRegister in advance for this meeting: \n\nhttps://us02web.zoom.us/meeting/register/tZEvfuCtrTouGdM3e2ZwwN1yZK7qOvq6-XSF \n  \nAfter registering\, you will receive a confirmation email containing information about joining the meeting.
URL:https://www.wbasny.org/event/flwba-march-chapter-meeting/
END:VEVENT
END:VCALENDAR