BEGIN:VCALENDAR
VERSION:2.0
PRODID:-//wbasny - ECPv6.15.20//NONSGML v1.0//EN
CALSCALE:GREGORIAN
METHOD:PUBLISH
X-WR-CALNAME:wbasny
X-ORIGINAL-URL:https://www.wbasny.org
X-WR-CALDESC:Events for wbasny
REFRESH-INTERVAL;VALUE=DURATION:PT1H
X-Robots-Tag:noindex
X-PUBLISHED-TTL:PT1H
BEGIN:VTIMEZONE
TZID:America/New_York
BEGIN:DAYLIGHT
TZOFFSETFROM:-0500
TZOFFSETTO:-0400
TZNAME:EDT
DTSTART:20210314T070000
END:DAYLIGHT
BEGIN:STANDARD
TZOFFSETFROM:-0400
TZOFFSETTO:-0500
TZNAME:EST
DTSTART:20211107T060000
END:STANDARD
BEGIN:DAYLIGHT
TZOFFSETFROM:-0500
TZOFFSETTO:-0400
TZNAME:EDT
DTSTART:20220313T070000
END:DAYLIGHT
BEGIN:STANDARD
TZOFFSETFROM:-0400
TZOFFSETTO:-0500
TZNAME:EST
DTSTART:20221106T060000
END:STANDARD
BEGIN:DAYLIGHT
TZOFFSETFROM:-0500
TZOFFSETTO:-0400
TZNAME:EDT
DTSTART:20230312T070000
END:DAYLIGHT
BEGIN:STANDARD
TZOFFSETFROM:-0400
TZOFFSETTO:-0500
TZNAME:EST
DTSTART:20231105T060000
END:STANDARD
END:VTIMEZONE
BEGIN:VEVENT
DTSTART;TZID=America/New_York:20220331T123000
DTEND;TZID=America/New_York:20220331T133000
DTSTAMP:20260421T101822
CREATED:20220314T143544Z
LAST-MODIFIED:20220314T143613Z
UID:60119-1648729800-1648733400@www.wbasny.org
SUMMARY:The POWER of a WOMAN'S VOICE
DESCRIPTION:Western New York Chapter \n \n \nRegister
URL:https://www.wbasny.org/event/the-power-of-a-womans-voice/
ORGANIZER;CN="Western New York Women's Bar Association":MAILTO:wbasnywny@gmail.com
END:VEVENT
BEGIN:VEVENT
DTSTART;TZID=America/New_York:20220331T180000
DTEND;TZID=America/New_York:20220331T193000
DTSTAMP:20260421T101822
CREATED:20220311T193747Z
LAST-MODIFIED:20220331T180558Z
UID:60107-1648749600-1648755000@www.wbasny.org
SUMMARY:CLE- Women in the Highest Courts: History in the Making
DESCRIPTION:Women Judges Committee \npresents \n \nWomen in the Highest Courts:\nHistory in the Making CLE \n  \nMarch 31\, 2022 \n  \n6:00 – 7:30 pm \n  \nIn light of the recent U.S. Supreme Court nomination\, this program will focus on women in the highest courts and how they obtained their seats.  We will have a jurist from the NYS Court of Appeals provide an overview of women sitting in the higher courts in both the United States and New York State and its significance.  A representative from the Governor’s office will discuss the screening process to attain a higher court seat in New York State and a jurist who recently attained a seat in the Court of Appeals will also discuss her ascension.  \n  \nSpeakers: \n \nHon. Jenny Rivera\nAssociate Judge of the\n​New York State Court of Appeals \n \nBella S. Satra\, Esq.\nAssistant Counsel to the Governor \n \nHon. Shirley Troutman\nAssociate Judge of the\nNew York State Court of Appeals \n  \n1.5 CLE Credit \n(Professional Practice)\n(Transitional / Non-Transitional) \n  \nCost:\nFree to Members \nNon-Members – $40 \n  \nR.S.V.P. by March 28\, 2022  \nhttps://us02web.zoom.us/webinar/register/WN_5upOwYUDQNOLYJSueNAZIw
URL:https://www.wbasny.org/event/cle-women-in-the-highest-courts-history-in-the-making/
ORGANIZER;CN="WBASNY":MAILTO:events@wbasny.org
END:VEVENT
BEGIN:VEVENT
DTSTART;TZID=America/New_York:20220331T180000
DTEND;TZID=America/New_York:20220331T200000
DTSTAMP:20260421T101822
CREATED:20220307T162611Z
LAST-MODIFIED:20220307T162611Z
UID:59909-1648749600-1648756800@www.wbasny.org
SUMMARY:Judge's Choice Dinner
DESCRIPTION:Western New York Chapter
URL:https://www.wbasny.org/event/judges-choice-dinner-3/
ORGANIZER;CN="Western New York Women's Bar Association":MAILTO:wbasnywny@gmail.com
END:VEVENT
END:VCALENDAR