BEGIN:VCALENDAR
VERSION:2.0
PRODID:-//wbasny - ECPv6.15.20//NONSGML v1.0//EN
CALSCALE:GREGORIAN
METHOD:PUBLISH
X-ORIGINAL-URL:https://www.wbasny.org
X-WR-CALDESC:Events for wbasny
REFRESH-INTERVAL;VALUE=DURATION:PT1H
X-Robots-Tag:noindex
X-PUBLISHED-TTL:PT1H
BEGIN:VTIMEZONE
TZID:America/New_York
BEGIN:DAYLIGHT
TZOFFSETFROM:-0500
TZOFFSETTO:-0400
TZNAME:EDT
DTSTART:20210314T070000
END:DAYLIGHT
BEGIN:STANDARD
TZOFFSETFROM:-0400
TZOFFSETTO:-0500
TZNAME:EST
DTSTART:20211107T060000
END:STANDARD
BEGIN:DAYLIGHT
TZOFFSETFROM:-0500
TZOFFSETTO:-0400
TZNAME:EDT
DTSTART:20220313T070000
END:DAYLIGHT
BEGIN:STANDARD
TZOFFSETFROM:-0400
TZOFFSETTO:-0500
TZNAME:EST
DTSTART:20221106T060000
END:STANDARD
BEGIN:DAYLIGHT
TZOFFSETFROM:-0500
TZOFFSETTO:-0400
TZNAME:EDT
DTSTART:20230312T070000
END:DAYLIGHT
BEGIN:STANDARD
TZOFFSETFROM:-0400
TZOFFSETTO:-0500
TZNAME:EST
DTSTART:20231105T060000
END:STANDARD
END:VTIMEZONE
BEGIN:VEVENT
DTSTART;TZID=America/New_York:20220401T080000
DTEND;TZID=America/New_York:20220401T170000
DTSTAMP:20260421T084454
CREATED:20220124T171029Z
LAST-MODIFIED:20220214T191415Z
UID:58892-1648800000-1648832400@www.wbasny.org
SUMMARY:Pearls of Wisdom- 30 Years of UB Law Clinics Confronting Family Violence in Western New York and Beyond
DESCRIPTION:Western NY Chapter
URL:https://www.wbasny.org/event/pearls-of-wisdom-30-years-of-ub-law-clinics-confronting-family-violence-in-western-new-york-and-beyond/
ORGANIZER;CN="Western New York Women's Bar Association":MAILTO:wbasnywny@gmail.com
END:VEVENT
BEGIN:VEVENT
DTSTART;TZID=America/New_York:20220401T080000
DTEND;TZID=America/New_York:20220401T170000
DTSTAMP:20260421T084454
CREATED:20220315T144738Z
LAST-MODIFIED:20220315T144738Z
UID:60147-1648800000-1648832400@www.wbasny.org
SUMMARY:The Central New York Women's Bar Association Karen DeCrow Award Nominations Deadline
DESCRIPTION:Central New York Chapter \n \nTHE CENTRAL NEW YORK  \nWOMEN’S BAR ASSOCIATION \nKAREN DECROW AWARD \n  \n                Karen DeCrow\, an ardent feminist\, fought for women’s full and equal participation in the world outside the home – from the courtroom to the boardroom to the halls of political influence. She actively sought a world where “the gender of a baby [would have] little or no relevance to future pursuits or pleasures – personal\, political\, economic\, social and professional.” She was an activist\, lawyer\, mentor\, international lecturer and author. Karen was the founding member of the upstate chapter of the National Organization for Women and served as the organization’s fourth national president. She was a founding member of the Central New York Women’s Bar Association and remained an active member throughout her life. Her influence extended beyond feminism alone to challenging gender role stereotypes\, solidifying men’s parental rights and promoting social equality for all races\, creeds\, ethnicities and sexual orientations. Karen believed civil rights were human rights that should be extended to all\, and she devoted her life to fighting for them through legal process\, political activism\, education and debate. \n\n                The annual Karen DeCrow Award is presented to a member of the judiciary or legal profession who works to advance the principles that Karen promoted throughout her life. Candidates must meet geographic eligibility criteria for membership in the CNYWBA\, but need not be a member of the CNYWBA. An awards subcommittee (convened and chaired by the Chair of the CNYWBA Standing Membership Committee) solicits nominations in February of each year. The subcommittee may solicit nominations from CNYWBA membership\, local bar associations (OCBA\, Federal\, etc.)\, members of the judiciary or other community leaders as it sees fit.  The Membership Chair will submit an award recommendation on the subcommittee’s behalf to the CNYWBA Board of Directors for a vote. \n\n                The CNYWBA presents the award to the winner at its Annual Meeting in April. The winner is invited to attend the Annual Meeting with his or her family\, and is asked to select the person he or she would like to have introduce them. The winner is presented with a commemorative plaque. CNYWBA will also issue such member communications\, press releases and statements as may be appropriate to honor the recipient in the legal community as well as the community at large. \n\n                Please submit your nomination(s) by April 1\, 2022 to CNYWBA Vice President\, Leah A. Witmer\, at lwitmer@syrgov.net. Thank you.
URL:https://www.wbasny.org/event/the-central-new-york-womens-bar-association-karen-decrow-award-nominations-deadline/
END:VEVENT
END:VCALENDAR