BEGIN:VCALENDAR
VERSION:2.0
PRODID:-//wbasny - ECPv6.15.20//NONSGML v1.0//EN
CALSCALE:GREGORIAN
METHOD:PUBLISH
X-WR-CALNAME:wbasny
X-ORIGINAL-URL:https://www.wbasny.org
X-WR-CALDESC:Events for wbasny
REFRESH-INTERVAL;VALUE=DURATION:PT1H
X-Robots-Tag:noindex
X-PUBLISHED-TTL:PT1H
BEGIN:VTIMEZONE
TZID:America/New_York
BEGIN:DAYLIGHT
TZOFFSETFROM:-0500
TZOFFSETTO:-0400
TZNAME:EDT
DTSTART:20210314T070000
END:DAYLIGHT
BEGIN:STANDARD
TZOFFSETFROM:-0400
TZOFFSETTO:-0500
TZNAME:EST
DTSTART:20211107T060000
END:STANDARD
BEGIN:DAYLIGHT
TZOFFSETFROM:-0500
TZOFFSETTO:-0400
TZNAME:EDT
DTSTART:20220313T070000
END:DAYLIGHT
BEGIN:STANDARD
TZOFFSETFROM:-0400
TZOFFSETTO:-0500
TZNAME:EST
DTSTART:20221106T060000
END:STANDARD
BEGIN:DAYLIGHT
TZOFFSETFROM:-0500
TZOFFSETTO:-0400
TZNAME:EDT
DTSTART:20230312T070000
END:DAYLIGHT
BEGIN:STANDARD
TZOFFSETFROM:-0400
TZOFFSETTO:-0500
TZNAME:EST
DTSTART:20231105T060000
END:STANDARD
END:VTIMEZONE
BEGIN:VEVENT
DTSTART;TZID=America/New_York:20220507T090000
DTEND;TZID=America/New_York:20220507T120000
DTSTAMP:20260421T065939
CREATED:20220420T151858Z
LAST-MODIFIED:20220420T151858Z
UID:60774-1651914000-1651924800@www.wbasny.org
SUMMARY:Hudson River Cleanup
DESCRIPTION:Mid-Hudson Chapter \n \nHudson River Cleanup on May 7\, 2022  \n\nJoin our MHWBA Team; sponsored by Riverkeeper \n\nWhere: Dennings Point in Beacon \nTime: 9am to 12pm \nRegister at Riverkeeper (mobilecause.com)
URL:https://www.wbasny.org/event/hudson-river-cleanup/
END:VEVENT
BEGIN:VEVENT
DTSTART;TZID=America/New_York:20220507T100000
DTEND;TZID=America/New_York:20220507T110000
DTSTAMP:20260421T065939
CREATED:20220413T195542Z
LAST-MODIFIED:20220413T195603Z
UID:60639-1651917600-1651921200@www.wbasny.org
SUMMARY:Hike with GRAWA
DESCRIPTION:Hike with GRAWA \n10:00 AM  12:00 PM \n260 Boxart Street\, Rochester\, NY\, 14612 \nHike With GRAWA: May 7th at 10:00 a.m.\, Turning Point Park\, 260 Boxart Street\, Rochester\, 14612. Join the Women’s Health Committee and NAWA for a springtime hike at Turning Point Park! RSVP by Thursday\, May 5th to: \nGrace Streicher at Grace@HarrisAppeals.com or \nChristine Naassana at cnaassana@wardgreenberg.com
URL:https://www.wbasny.org/event/hike-with-grawa/
END:VEVENT
END:VCALENDAR