BEGIN:VCALENDAR
VERSION:2.0
PRODID:-//wbasny - ECPv6.15.20//NONSGML v1.0//EN
CALSCALE:GREGORIAN
METHOD:PUBLISH
X-ORIGINAL-URL:https://www.wbasny.org
X-WR-CALDESC:Events for wbasny
REFRESH-INTERVAL;VALUE=DURATION:PT1H
X-Robots-Tag:noindex
X-PUBLISHED-TTL:PT1H
BEGIN:VTIMEZONE
TZID:America/New_York
BEGIN:DAYLIGHT
TZOFFSETFROM:-0500
TZOFFSETTO:-0400
TZNAME:EDT
DTSTART:20210314T070000
END:DAYLIGHT
BEGIN:STANDARD
TZOFFSETFROM:-0400
TZOFFSETTO:-0500
TZNAME:EST
DTSTART:20211107T060000
END:STANDARD
BEGIN:DAYLIGHT
TZOFFSETFROM:-0500
TZOFFSETTO:-0400
TZNAME:EDT
DTSTART:20220313T070000
END:DAYLIGHT
BEGIN:STANDARD
TZOFFSETFROM:-0400
TZOFFSETTO:-0500
TZNAME:EST
DTSTART:20221106T060000
END:STANDARD
BEGIN:DAYLIGHT
TZOFFSETFROM:-0500
TZOFFSETTO:-0400
TZNAME:EDT
DTSTART:20230312T070000
END:DAYLIGHT
BEGIN:STANDARD
TZOFFSETFROM:-0400
TZOFFSETTO:-0500
TZNAME:EST
DTSTART:20231105T060000
END:STANDARD
END:VTIMEZONE
BEGIN:VEVENT
DTSTART;TZID=America/New_York:20220615T173000
DTEND;TZID=America/New_York:20220615T193000
DTSTAMP:20260421T051442
CREATED:20220420T151402Z
LAST-MODIFIED:20220420T151402Z
UID:60770-1655314200-1655321400@www.wbasny.org
SUMMARY:Annual Dinner Celebrating Women in Government with Michelle Hinchey
DESCRIPTION:JOIN US FOR OUR ANNUAL DINNER CELEBRATING WOMEN IN GOVERNMENT \nwith guest speaker \nMichelle Hinchey\, NYS Senator\, 46th District\n\n\n\n\n\n\n\n\n\n\n\n\n\n\n\n\n\n\n\n\n\n\n\n\n\n\n\n\n\n\n\n\n\n\n\n\n\n\n\n\n\n\n\n\n\n\n\nSponsored by the \nMid-Hudson Women’s Bar Association \n  \nJune 15\, 2022 5:30-7:30 PM \nGarvan’s Gastropub \n215 Huguenot Street\, New Paltz \n  \nTickets: $50 Members/ $55 Nonmembers \nIncludes 3-Course meal\, cash bar \nChoice of Braised Short Ribs\, Seared Sea Scallops\, Vegetarian Napoleon. \nClick below for Reservations and Tickets.\n\n\n\n\n\n\n\n\n\n\n\n\n\n\n\n\n\n\n\n\n\n\n\nReservations and Tickets\n\n\n\n\n\n\n\n\n\n\n\n\n\n\n\n\n\n\n\n\n\n\n\n  \n  \nInterested in sponsoring this special event? Contact midhudsonwba@gmail.com for more information.
URL:https://www.wbasny.org/event/annual-dinner-celebrating-women-in-government-with-michelle-hinchey/
END:VEVENT
END:VCALENDAR