BEGIN:VCALENDAR
VERSION:2.0
PRODID:-//wbasny - ECPv6.15.20//NONSGML v1.0//EN
CALSCALE:GREGORIAN
METHOD:PUBLISH
X-ORIGINAL-URL:https://www.wbasny.org
X-WR-CALDESC:Events for wbasny
REFRESH-INTERVAL;VALUE=DURATION:PT1H
X-Robots-Tag:noindex
X-PUBLISHED-TTL:PT1H
BEGIN:VTIMEZONE
TZID:America/New_York
BEGIN:DAYLIGHT
TZOFFSETFROM:-0500
TZOFFSETTO:-0400
TZNAME:EDT
DTSTART:20210314T070000
END:DAYLIGHT
BEGIN:STANDARD
TZOFFSETFROM:-0400
TZOFFSETTO:-0500
TZNAME:EST
DTSTART:20211107T060000
END:STANDARD
BEGIN:DAYLIGHT
TZOFFSETFROM:-0500
TZOFFSETTO:-0400
TZNAME:EDT
DTSTART:20220313T070000
END:DAYLIGHT
BEGIN:STANDARD
TZOFFSETFROM:-0400
TZOFFSETTO:-0500
TZNAME:EST
DTSTART:20221106T060000
END:STANDARD
BEGIN:DAYLIGHT
TZOFFSETFROM:-0500
TZOFFSETTO:-0400
TZNAME:EDT
DTSTART:20230312T070000
END:DAYLIGHT
BEGIN:STANDARD
TZOFFSETFROM:-0400
TZOFFSETTO:-0500
TZNAME:EST
DTSTART:20231105T060000
END:STANDARD
END:VTIMEZONE
BEGIN:VEVENT
DTSTART;TZID=America/New_York:20220926T130000
DTEND;TZID=America/New_York:20220926T143000
DTSTAMP:20260420T224507
CREATED:20220907T194939Z
LAST-MODIFIED:20220907T194939Z
UID:62290-1664197200-1664202600@www.wbasny.org
SUMMARY:Richmond County Hispanic Heritage Celebration
DESCRIPTION:Staten Island Women’s Bar Association  \nMembership Mixer \n\nJoin us for a pizza making party! \nEnjoy Appetizers\, Pizzas\, Dessert \nBeer\, Wine and Sangria \n\nSeptember 29\, 2022 \n7PM \nBario’s \n\nFree for all SIWBA members \nMembers can join/renew at event! \n\nInvitation with RSVP information to follow this week. \n \n  \nREGISTER FOR SEPTEMBER 26\, 2022
URL:https://www.wbasny.org/event/richmond-county-hispanic-heritage-celebration/
END:VEVENT
END:VCALENDAR