BEGIN:VCALENDAR
VERSION:2.0
PRODID:-//wbasny - ECPv6.15.20//NONSGML v1.0//EN
CALSCALE:GREGORIAN
METHOD:PUBLISH
X-ORIGINAL-URL:https://www.wbasny.org
X-WR-CALDESC:Events for wbasny
REFRESH-INTERVAL;VALUE=DURATION:PT1H
X-Robots-Tag:noindex
X-PUBLISHED-TTL:PT1H
BEGIN:VTIMEZONE
TZID:America/New_York
BEGIN:DAYLIGHT
TZOFFSETFROM:-0500
TZOFFSETTO:-0400
TZNAME:EDT
DTSTART:20210314T070000
END:DAYLIGHT
BEGIN:STANDARD
TZOFFSETFROM:-0400
TZOFFSETTO:-0500
TZNAME:EST
DTSTART:20211107T060000
END:STANDARD
BEGIN:DAYLIGHT
TZOFFSETFROM:-0500
TZOFFSETTO:-0400
TZNAME:EDT
DTSTART:20220313T070000
END:DAYLIGHT
BEGIN:STANDARD
TZOFFSETFROM:-0400
TZOFFSETTO:-0500
TZNAME:EST
DTSTART:20221106T060000
END:STANDARD
BEGIN:DAYLIGHT
TZOFFSETFROM:-0500
TZOFFSETTO:-0400
TZNAME:EDT
DTSTART:20230312T070000
END:DAYLIGHT
BEGIN:STANDARD
TZOFFSETFROM:-0400
TZOFFSETTO:-0500
TZNAME:EST
DTSTART:20231105T060000
END:STANDARD
END:VTIMEZONE
BEGIN:VEVENT
DTSTART;TZID=America/New_York:20221013T080000
DTEND;TZID=America/New_York:20221013T170000
DTSTAMP:20260420T224431
CREATED:20220829T173427Z
LAST-MODIFIED:20220829T173427Z
UID:61949-1665648000-1665680400@www.wbasny.org
SUMMARY:Installation of Officers and Directors 2022-2023
DESCRIPTION:Save the Date! \nInstallation of Officers and Directors 2022-2023 \nOctober 13th at the Marcy Casino in Delaware Park
URL:https://www.wbasny.org/event/installation-of-officers-and-directors-2022-2023/
END:VEVENT
BEGIN:VEVENT
DTSTART;TZID=America/New_York:20221013T080000
DTEND;TZID=America/New_York:20221013T170000
DTSTAMP:20260420T224431
CREATED:20220907T145350Z
LAST-MODIFIED:20220919T173226Z
UID:62275-1665648000-1665680400@www.wbasny.org
SUMMARY:Installation of WBASNY WNY Officers and Directors
DESCRIPTION:
URL:https://www.wbasny.org/event/installation-of-wbasny-wny-officers-and-directors/
ORGANIZER;CN="Western New York Women's Bar Association":MAILTO:wbasnywny@gmail.com
END:VEVENT
BEGIN:VEVENT
DTSTART;TZID=America/New_York:20221013T080000
DTEND;TZID=America/New_York:20221014T170000
DTSTAMP:20260420T224431
CREATED:20220926T152044Z
LAST-MODIFIED:20220926T152044Z
UID:63021-1665648000-1665766800@www.wbasny.org
SUMMARY:Justice for Survivors of Intimate Partner Violence: Transforming an Inequitable Family Law System
DESCRIPTION:Bronx Chapter \n \nBxWBA co-sponsors 2022 Family Law Conference\, “Justice for Survivors of Intimate Partner Violence:\nTransforming an Inequitable Family Law System.” October 13 -14\, 2022\, Virtual and in-person.
URL:https://www.wbasny.org/event/justice-for-survivors-of-intimate-partner-violence-transforming-an-inequitable-family-law-system/
END:VEVENT
BEGIN:VEVENT
DTSTART;TZID=America/New_York:20221013T090000
DTEND;TZID=America/New_York:20221013T160000
DTSTAMP:20260420T224431
CREATED:20220829T174842Z
LAST-MODIFIED:20220829T174842Z
UID:61957-1665651600-1665676800@www.wbasny.org
SUMMARY:Raise the Age Summit
DESCRIPTION:The Franklin H. Williams Judicial Commission and the New York State Office for Justice Initiatives Present \nRaise the Age Summit \nThursday\, October 13\, 2022\, from 9AM-4PM \nLocation:  Syracuse University College of Law\, 950 Irving Avenue\, Syracuse \n(Limited In-Person Viewing and Virtual Options) \nJoin us in a discussion with stakeholders regarding the impact of Raise the Age legislation on the courts\, youth and the community. Stakeholders include judges\, district attorneys\, defense counsel and attorneys for the child. CLE credit pending. \nCLICK HERE TO REGISTER FOR THE PROGRAM
URL:https://www.wbasny.org/event/raise-the-age-summit/
ORGANIZER;CN="Western New York Women's Bar Association":MAILTO:wbasnywny@gmail.com
END:VEVENT
BEGIN:VEVENT
DTSTART;TZID=America/New_York:20221013T130000
DTEND;TZID=America/New_York:20221013T140000
DTSTAMP:20260420T224431
CREATED:20220926T151843Z
LAST-MODIFIED:20220926T151843Z
UID:63019-1665666000-1665669600@www.wbasny.org
SUMMARY:Lunchtime Discussion with Hon. Doris M. Gozalez
DESCRIPTION:Bronx Chapter \n \nBxWBA co-sponsors “Lunchtime Discussion with the Honorable Doris M. Gonzalez: First Latina Administrative\nJudge\, NYC” with 12th Judicial District’s Equal Justice Committee\, October 13\, 2022\, 1:00 p.m.
URL:https://www.wbasny.org/event/lunchtime-discussion-with-hon-doris-m-gozalez/
END:VEVENT
BEGIN:VEVENT
DTSTART;TZID=America/New_York:20221013T173000
DTEND;TZID=America/New_York:20221013T193000
DTSTAMP:20260420T224431
CREATED:20221004T142050Z
LAST-MODIFIED:20221004T142050Z
UID:63308-1665682200-1665689400@www.wbasny.org
SUMMARY:BWBA Annual Membership Party
DESCRIPTION:
URL:https://www.wbasny.org/event/bwba-annual-membership-party-2/
END:VEVENT
BEGIN:VEVENT
DTSTART;TZID=America/New_York:20221013T180000
DTEND;TZID=America/New_York:20221013T190000
DTSTAMP:20260420T224431
CREATED:20220824T141356Z
LAST-MODIFIED:20220824T141356Z
UID:61665-1665684000-1665687600@www.wbasny.org
SUMMARY:JALBCA's Breast Cancer Support Group Meetings
DESCRIPTION:
URL:https://www.wbasny.org/event/jalbcas-breast-cancer-support-group-meetings-2/
END:VEVENT
END:VCALENDAR