BEGIN:VCALENDAR
VERSION:2.0
PRODID:-//wbasny - ECPv6.15.20//NONSGML v1.0//EN
CALSCALE:GREGORIAN
METHOD:PUBLISH
X-WR-CALNAME:wbasny
X-ORIGINAL-URL:https://www.wbasny.org
X-WR-CALDESC:Events for wbasny
REFRESH-INTERVAL;VALUE=DURATION:PT1H
X-Robots-Tag:noindex
X-PUBLISHED-TTL:PT1H
BEGIN:VTIMEZONE
TZID:America/New_York
BEGIN:DAYLIGHT
TZOFFSETFROM:-0500
TZOFFSETTO:-0400
TZNAME:EDT
DTSTART:20210314T070000
END:DAYLIGHT
BEGIN:STANDARD
TZOFFSETFROM:-0400
TZOFFSETTO:-0500
TZNAME:EST
DTSTART:20211107T060000
END:STANDARD
BEGIN:DAYLIGHT
TZOFFSETFROM:-0500
TZOFFSETTO:-0400
TZNAME:EDT
DTSTART:20220313T070000
END:DAYLIGHT
BEGIN:STANDARD
TZOFFSETFROM:-0400
TZOFFSETTO:-0500
TZNAME:EST
DTSTART:20221106T060000
END:STANDARD
BEGIN:DAYLIGHT
TZOFFSETFROM:-0500
TZOFFSETTO:-0400
TZNAME:EDT
DTSTART:20230312T070000
END:DAYLIGHT
BEGIN:STANDARD
TZOFFSETFROM:-0400
TZOFFSETTO:-0500
TZNAME:EST
DTSTART:20231105T060000
END:STANDARD
END:VTIMEZONE
BEGIN:VEVENT
DTSTART;TZID=America/New_York:20221016T070000
DTEND;TZID=America/New_York:20221016T223000
DTSTAMP:20260420T224313
CREATED:20220919T160516Z
LAST-MODIFIED:20220919T160516Z
UID:62865-1665903600-1665959400@www.wbasny.org
SUMMARY:Making Strides Against Breast Cancer of Long Island
DESCRIPTION:
URL:https://www.wbasny.org/event/making-strides-against-breast-cancer-of-long-island/
END:VEVENT
BEGIN:VEVENT
DTSTART;TZID=America/New_York:20221016T080000
DTEND;TZID=America/New_York:20221016T170000
DTSTAMP:20260420T224313
CREATED:20220907T195623Z
LAST-MODIFIED:20220907T195623Z
UID:62296-1665907200-1665939600@www.wbasny.org
SUMMARY:2022 Making Strides of Staten Island
DESCRIPTION:2022 Making Strides of Staten Island \nOctober 16\, 2022 \nFather Capodanno Blvd \n\nWe will be walking in person at this year’s Breast Cancer Walk on Sunday\, October 16\, 2021. Put on your walking shoes and join us in our local Making Strides Against Breast Cancer event. \n\nClick here to view the TEAM page for Legally Pink \n\nWe will be sending out an email advising as to Team Legally Pink’s time slot to all registered walkers by October 15\, 2022. If you are interested in ordering a Team Legally Pink shirt\, please email us with your name\, number and shirt size! \n\nIf you have any questions about the event or how to become more involved\, please reach out to Mary Kavanagh at marya.mclaughlin@gmail.com.
URL:https://www.wbasny.org/event/2022-making-strides-of-staten-island/
END:VEVENT
BEGIN:VEVENT
DTSTART;TZID=America/New_York:20221016T140000
DTEND;TZID=America/New_York:20221016T150000
DTSTAMP:20260420T224313
CREATED:20220920T211235Z
LAST-MODIFIED:20220920T211235Z
UID:62950-1665928800-1665932400@www.wbasny.org
SUMMARY:Yoga for a Cause
DESCRIPTION:Women’s Bar Association of Orange and Sullivan Counties \n\n\n\n\n\n\n\n\n\n\n\n\n\n\n\n\nPlease join us for an afternoon of relaxation for a good cause! \n  \nYoga for a Cause \n  \nSunday\, October 16 at 2:00pm \n  \nNewburgh Yoga Shala \n5 Liberty Street \nNewburgh\, NY \n  \n$20 per person \n  \nIn honor of Domestic Violence Awareness Month\, we are asking you to bring a donation of a new or gently used purse. We’ll be using your donation to stuff the purses with much needed personal hygiene products and toiletries and donating the items to Fearless! Hudson Valley\, which provides support and resources to those impacted by intimate partner violence\, teen dating violence\, and trafficking. \n  \nIf you cannot attend this event but want to support Fearless! Hudson Valley\, you can purchase items direct to donate via their \nAmazon Wishlist. \n  \nRSVP to rsvp@wbaosc.org \n  \nWe hope to see you there! \n 
URL:https://www.wbasny.org/event/yoga-for-a-cause/
END:VEVENT
END:VCALENDAR