BEGIN:VCALENDAR
VERSION:2.0
PRODID:-//wbasny - ECPv6.15.20//NONSGML v1.0//EN
CALSCALE:GREGORIAN
METHOD:PUBLISH
X-ORIGINAL-URL:https://www.wbasny.org
X-WR-CALDESC:Events for wbasny
REFRESH-INTERVAL;VALUE=DURATION:PT1H
X-Robots-Tag:noindex
X-PUBLISHED-TTL:PT1H
BEGIN:VTIMEZONE
TZID:America/New_York
BEGIN:DAYLIGHT
TZOFFSETFROM:-0500
TZOFFSETTO:-0400
TZNAME:EDT
DTSTART:20210314T070000
END:DAYLIGHT
BEGIN:STANDARD
TZOFFSETFROM:-0400
TZOFFSETTO:-0500
TZNAME:EST
DTSTART:20211107T060000
END:STANDARD
BEGIN:DAYLIGHT
TZOFFSETFROM:-0500
TZOFFSETTO:-0400
TZNAME:EDT
DTSTART:20220313T070000
END:DAYLIGHT
BEGIN:STANDARD
TZOFFSETFROM:-0400
TZOFFSETTO:-0500
TZNAME:EST
DTSTART:20221106T060000
END:STANDARD
BEGIN:DAYLIGHT
TZOFFSETFROM:-0500
TZOFFSETTO:-0400
TZNAME:EDT
DTSTART:20230312T070000
END:DAYLIGHT
BEGIN:STANDARD
TZOFFSETFROM:-0400
TZOFFSETTO:-0500
TZNAME:EST
DTSTART:20231105T060000
END:STANDARD
END:VTIMEZONE
BEGIN:VEVENT
DTSTART;TZID=America/New_York:20221028T130000
DTEND;TZID=America/New_York:20221028T140000
DTSTAMP:20260420T224436
CREATED:20220909T161528Z
LAST-MODIFIED:20220909T161528Z
UID:62527-1666962000-1666965600@www.wbasny.org
SUMMARY:CLE-Assigned Counsel and the Indigent Legal Representation Crisis
DESCRIPTION:October 28th at 1:00 pm – Virtual CLE by the WBASNY Children’s Rights Committee  on “Assigned Counsel and the Indigent Legal Representation Crisis.”
URL:https://www.wbasny.org/event/cle-assigned-counsel-and-the-indigent-legal-representation-crisis/
END:VEVENT
BEGIN:VEVENT
DTSTART;TZID=America/New_York:20221028T130000
DTEND;TZID=America/New_York:20221028T140000
DTSTAMP:20260420T224436
CREATED:20220926T153556Z
LAST-MODIFIED:20220926T153556Z
UID:63029-1666962000-1666965600@www.wbasny.org
SUMMARY:Free CLE- Every Moment Counts: The Blessings of Cancer
DESCRIPTION:Bronx Chapter \n \nBxWBA FREE CLE: “Every Moment Counts: The Blessings of Cancer.” Presentations by an attorney\,\ndoctor\, and survivor. October 28\, 2022. 1-2 p.m. Virtual.
URL:https://www.wbasny.org/event/free-cle-every-moment-counts-the-blessings-of-cancer/
END:VEVENT
END:VCALENDAR