BEGIN:VCALENDAR
VERSION:2.0
PRODID:-//wbasny - ECPv6.15.20//NONSGML v1.0//EN
CALSCALE:GREGORIAN
METHOD:PUBLISH
X-WR-CALNAME:wbasny
X-ORIGINAL-URL:https://www.wbasny.org
X-WR-CALDESC:Events for wbasny
REFRESH-INTERVAL;VALUE=DURATION:PT1H
X-Robots-Tag:noindex
X-PUBLISHED-TTL:PT1H
BEGIN:VTIMEZONE
TZID:America/New_York
BEGIN:DAYLIGHT
TZOFFSETFROM:-0500
TZOFFSETTO:-0400
TZNAME:EDT
DTSTART:20210314T070000
END:DAYLIGHT
BEGIN:STANDARD
TZOFFSETFROM:-0400
TZOFFSETTO:-0500
TZNAME:EST
DTSTART:20211107T060000
END:STANDARD
BEGIN:DAYLIGHT
TZOFFSETFROM:-0500
TZOFFSETTO:-0400
TZNAME:EDT
DTSTART:20220313T070000
END:DAYLIGHT
BEGIN:STANDARD
TZOFFSETFROM:-0400
TZOFFSETTO:-0500
TZNAME:EST
DTSTART:20221106T060000
END:STANDARD
BEGIN:DAYLIGHT
TZOFFSETFROM:-0500
TZOFFSETTO:-0400
TZNAME:EDT
DTSTART:20230312T070000
END:DAYLIGHT
BEGIN:STANDARD
TZOFFSETFROM:-0400
TZOFFSETTO:-0500
TZNAME:EST
DTSTART:20231105T060000
END:STANDARD
END:VTIMEZONE
BEGIN:VEVENT
DTSTART;TZID=America/New_York:20221101T120000
DTEND;TZID=America/New_York:20221101T130000
DTSTAMP:20260420T204734
CREATED:20221011T154508Z
LAST-MODIFIED:20221011T154508Z
UID:63483-1667304000-1667307600@www.wbasny.org
SUMMARY:GRAWA Diversity Committee Meeting
DESCRIPTION:GRAWA Diversity Committee Meeting \n12:00pm-1:00pm \nDiversity Committee meeting on Zoom. \nPlease e-mail Erin at eelmouji@woodsoviatt.com to RSVP.
URL:https://www.wbasny.org/event/grawa-diversity-committee-meeting-2/
END:VEVENT
BEGIN:VEVENT
DTSTART;TZID=America/New_York:20221101T180000
DTEND;TZID=America/New_York:20221101T190000
DTSTAMP:20260420T204734
CREATED:20221010T200448Z
LAST-MODIFIED:20221010T200448Z
UID:63452-1667325600-1667329200@www.wbasny.org
SUMMARY:CLE-Treatment Not Jails
DESCRIPTION:NYWBA Criminal Law Committee\npresent a CLE Program: \n\n Treatment Not Jails \n\n Speakers: \n\nAndrea Nieves\,\nSenior Policy Attorney\, NY County Defender Services \n\nVictoria Ruiz\,\nTrial Attorney\, NY County Defender Services \nAdditional speaker(s) TBA \n\nModerator: TBD \n\nNovember 1\, 2022\, 6:00 p.m. by Zoom\nClick here for more info and to RSVP
URL:https://www.wbasny.org/event/cle-treatment-not-jails/
END:VEVENT
END:VCALENDAR